BEGIN:VCALENDAR
VERSION:2.0
PRODID:-//Zen Mountain - ECPv6.1.2.2//NONSGML v1.0//EN
CALSCALE:GREGORIAN
METHOD:PUBLISH
X-ORIGINAL-URL:https://zenmountain.in
X-WR-CALDESC:Events for Zen Mountain
REFRESH-INTERVAL;VALUE=DURATION:PT1H
X-Robots-Tag:noindex
X-PUBLISHED-TTL:PT1H
BEGIN:VTIMEZONE
TZID:UTC
BEGIN:STANDARD
TZOFFSETFROM:+0000
TZOFFSETTO:+0000
TZNAME:UTC
DTSTART:20230101T000000
END:STANDARD
END:VTIMEZONE
BEGIN:VEVENT
DTSTART;TZID=UTC:20230810T090000
DTEND;TZID=UTC:20230810T180000
DTSTAMP:20260419T190247
CREATED:20230731T033701Z
LAST-MODIFIED:20230731T033701Z
UID:10000043-1691658000-1691690400@zenmountain.in
SUMMARY:ATOAI Seminar & Adventure Tourism Roadshow - Connect\, Experience & Grow!
DESCRIPTION:Power up for the ATOAI Seminar & Adventure Tourism Roadshow |10th August 2023 | Hyderabad\, Telangana ATOAI is thrilled to announce that the second in the series of the Seminar & Adventure Tourism Roadshow will be held in Hyderabad on 10th August 2023. Salient Features: – Sessions on best practices & selling adventure travel – Meet authentic sellers of adventure products – Learn how to sell adventure tourism products Event detail are as follows: Date: 10th August 2023 Timings: 0930 – 1730 Venue: Samagamam Hall\, The Plaza Hotel – Begumpet\, Hyderabad\, Telangana- 500 016 ATOAI invites all travel industry professionals passionate about adventure tourism to join them on 10th August.
URL:https://zenmountain.in/event/atoai-seminar-adventure-tourism-roadshow-connect-experience-grow/
LOCATION:Hyderabad\, Hyderabad\, India
CATEGORIES:Bicycle,Climbing,Endurance,kayaking,Motorcycle
ATTACH;FMTTYPE=image/jpeg:https://zenmountain.in/wp-content/uploads/2023/07/atoai-workshop-zen-mountain.jpg
END:VEVENT
END:VCALENDAR