BEGIN:VCALENDAR
VERSION:2.0
PRODID:-//Zen Mountain - ECPv6.1.2.2//NONSGML v1.0//EN
CALSCALE:GREGORIAN
METHOD:PUBLISH
X-ORIGINAL-URL:https://zenmountain.in
X-WR-CALDESC:Events for Zen Mountain
REFRESH-INTERVAL;VALUE=DURATION:PT1H
X-Robots-Tag:noindex
X-PUBLISHED-TTL:PT1H
BEGIN:VTIMEZONE
TZID:UTC
BEGIN:STANDARD
TZOFFSETFROM:+0000
TZOFFSETTO:+0000
TZNAME:UTC
DTSTART:20230101T000000
END:STANDARD
END:VTIMEZONE
BEGIN:VEVENT
DTSTART;TZID=UTC:20230811T060000
DTEND;TZID=UTC:20230812T170000
DTSTAMP:20260423T075233
CREATED:20230802T141416Z
LAST-MODIFIED:20230802T141416Z
UID:10000047-1691733600-1691859600@zenmountain.in
SUMMARY:National Youth Climbing Cup
DESCRIPTION:The competition is being organised in Namma Bengaluru on 11th & 12th of August 2023. The program is organised by @indmount in association with @gethnaa_gok_official\nIf you are interested to participate in the competition please click the link below. \nEvent Location : Yavanika Climbing Wall.\nCategories: Youth B (Male & Female)\, Youth A (Male & Female)\, Junior (Male & Female) \n \n 
URL:https://zenmountain.in/event/national-youth-climbing-cup/
LOCATION:Bengaluru\, Bengaluru\, India
CATEGORIES:Climbing
ATTACH;FMTTYPE=image/jpeg:https://zenmountain.in/wp-content/uploads/2023/08/gethna-national-youth-climbibg-cup-zen-mountain.jpg
END:VEVENT
BEGIN:VEVENT
DTSTART;TZID=UTC:20230812T060000
DTEND;TZID=UTC:20230812T230000
DTSTAMP:20260423T075233
CREATED:20230801T144725Z
LAST-MODIFIED:20230804T194206Z
UID:10000045-1691820000-1691881200@zenmountain.in
SUMMARY:Ridge Enduro Ride
DESCRIPTION:We are inviting every offroad enthusiast to try out the best curated with all the variations for easy adoption of the genre. \nIts easy yet super intimidating. \nLink to register is mentioned below.
URL:https://zenmountain.in/event/ridge-enduro-ride/
LOCATION:Pune\, Pune\, Maharashtra\, India
CATEGORIES:Motorcycle
ATTACH;FMTTYPE=image/jpeg:https://zenmountain.in/wp-content/uploads/2023/08/expereince-enduro-ridge-ride-zen-mountain.jpg
END:VEVENT
BEGIN:VEVENT
DTSTART;TZID=UTC:20230812T060000
DTEND;TZID=UTC:20230813T220000
DTSTAMP:20260423T075233
CREATED:20230717T133222Z
LAST-MODIFIED:20230806T041910Z
UID:10000038-1691820000-1691964000@zenmountain.in
SUMMARY:Covelong Classic
DESCRIPTION:Jawa Yezdi and TT Group Presents \nSurf  + Music + Fitness Festival \nLive Music \nWe are incredibly stoked to announce that we are back with COVELONG CLASSIC 2023! Save the dates for Asia’s biggest Surf\, Music & Fitness festival – a unique & exploratory adventure that showcases killer surf\, world music & a curated series of fitness workshops by the beautiful Bay of Bengal\, only at Surf Turf this August 12 & 13 2023! \nNext up on our artist lineup for Covelong Classic 2023 is Gauley Bhai! A transtraditional rock band based in Bangalore & Kalimpong\, Gauley Bhai’s eclectic influences range from Nepali folk to South Indian Singari rhythms\, Malian folk\, Tuareg rock & more! Catch them LIVE at Asia’s biggest Surf\, Music & Fitness Festival this August at Surf Turf\, Chennai! \n \nCurated by @skratcrew
URL:https://zenmountain.in/event/covelong-classic/
LOCATION:Chennai\, Chennai\, Tamil Nadu\, India
CATEGORIES:Surfing,Watersports
ATTACH;FMTTYPE=image/jpeg:https://zenmountain.in/wp-content/uploads/2023/07/365214044_844336390585407_514290242202722027_n.jpg
END:VEVENT
BEGIN:VEVENT
DTSTART;TZID=UTC:20230812T170000
DTEND;TZID=UTC:20230816T170000
DTSTAMP:20260423T075233
CREATED:20230705T134045Z
LAST-MODIFIED:20230705T134045Z
UID:10000031-1691859600-1692205200@zenmountain.in
SUMMARY:Ladakh MTB Festival
DESCRIPTION:In a country where mountain biking is constrained to more competitive placement\, Ladakh MTB fest aims to go beyond that and explore the idea of celebrating the sport and the culture in its purest form.Ladakh MTB Mtb fest came into its existence in the year 2019 with the establishment of Disko valley bike park in Leh.The primary objective of the festival is to promote mountain biking in Ladakh and also\,display the riding potential of the region to the global community.The festival is a multi-day event with different activities spread over a week with jumps\, Freeride and side jib sessions at the bike park.And\, to keep things a little interesting\, the festival includes Downhill Racing along with Cross country as well. \nThe Location for the festival is the only space in India that is completely dedicated to mountain biking. The bike park houses some of the biggest dirt jumps and drops in the country\, with different jump lines staged on different grades along with a pump track as well.The bike park is to provide an infrastructure for the region and ultimately transform Ladakh into a The Mountain biking capital of the country. \nSo\, See you in August for some Hang time and Disko!
URL:https://zenmountain.in/event/ladakh-mtb-festival/
LOCATION:Ladakh\, Ladakh
CATEGORIES:Bicycle
ATTACH;FMTTYPE=image/jpeg:https://zenmountain.in/wp-content/uploads/2023/07/ladakh-mtb-festival-zen-mountain.jpg
END:VEVENT
END:VCALENDAR