BEGIN:VCALENDAR
VERSION:2.0
PRODID:-//Zen Mountain - ECPv6.1.2.2//NONSGML v1.0//EN
CALSCALE:GREGORIAN
METHOD:PUBLISH
X-WR-CALNAME:Zen Mountain
X-ORIGINAL-URL:https://zenmountain.in
X-WR-CALDESC:Events for Zen Mountain
REFRESH-INTERVAL;VALUE=DURATION:PT1H
X-Robots-Tag:noindex
X-PUBLISHED-TTL:PT1H
BEGIN:VTIMEZONE
TZID:UTC
BEGIN:STANDARD
TZOFFSETFROM:+0000
TZOFFSETTO:+0000
TZNAME:UTC
DTSTART:20260101T000000
END:STANDARD
END:VTIMEZONE
BEGIN:VEVENT
DTSTART;TZID=UTC:20260306T080000
DTEND;TZID=UTC:20260309T170000
DTSTAMP:20260423T075216
CREATED:20251217T123505Z
LAST-MODIFIED:20251217T123505Z
UID:10000188-1772784000-1773075600@zenmountain.in
SUMMARY:Tsomgo Ultra
DESCRIPTION:The Tsomgo Ultra is a premier high-altitude trail running event set in the spectacular Himalayan terrain of Sikkim\, India. Now celebrating its 5th edition\, this race offers runners a true mountain challenge through breathtaking landscapes and rugged trails around the Tsomgo area. \nWhy Run It\n\nEpic Himalayan Scenery: Run with panoramic views of snow-capped peaks\, including Kanchenjunga. kudum.org.in\nEndurance Test: Challenging routes with significant elevation gain push your stamina and mental strength. kudum.org.in\nWell-Supported Experience: Aid stations every 5–7 km\, timing chips\, medical support\, finisher medals\, and official race gear ensure a safe and rewarding journey. kudum.org.in\nLimited Field: With capped entries\, the race balances competition with a community feel. kudum.org.in\n\n\nWhat Makes It Unique\nTsomgo Ultra is unlike ordinary road races — its high-altitude mountain trails and unpredictable Himalayan weather create a true test of outdoor running skills and grit. The event’s setting\, changing terrain\, and adventure spirit differentiate it from standard marathons and ultramarathons. kudum.org.in \n\nRace Categories\nThe event offers four distances designed to suit a range of runners: \n\n75 km Ultra: The signature long course covering the most demanding terrain. kudum.org.in\n42 km Marathon: Classic marathon distance through mountain trails. kudum.org.in\n21 km Half Marathon: Mid-distance challenge with scenic views. kudum.org.in\n10 km Run: Shorter\, yet rewarding mountain run for all levels. kudum.org.in\n\nAid stations\, timing chips\, and medical support are provided across all categories to ensure runner safety and support. kudum.org.in \n\nRace Weekend & Logistics\n\nDate: 8 March 2026 (Sunday). kudum.org.in\nLocation: Sikkim’s scenic trails around the Tsomgo region. kudum.org.in\nBib Collection & Race Briefing: Held on Friday and Saturday before race day at Ridge Park. kudum.org.in\nRace Start Times: Early morning starts staggered by distance\, beginning as early as 5:00 AM. kudum.org.inRunners are advised to arrive early and prepare for varied weather conditions and high elevation terrain. kudum.org.in
URL:https://zenmountain.in/event/tsomgo-ultra/
LOCATION:Sikkim
CATEGORIES:Running
ATTACH;FMTTYPE=image/jpeg:https://zenmountain.in/wp-content/uploads/2025/12/tsomgo-ultra-zen-mountain.jpg
END:VEVENT
BEGIN:VEVENT
DTSTART;VALUE=DATE:20260307
DTEND;VALUE=DATE:20260309
DTSTAMP:20260423T075216
CREATED:20260106T083201Z
LAST-MODIFIED:20260106T114731Z
UID:10000221-1772841600-1773014399@zenmountain.in
SUMMARY:Tuffman 24 Hours Stadium Run New Delhi (8th Edition)
DESCRIPTION:Solo & Relay Endurance – From 1 hr to 24 hrs\n\nThe Tuffman 24 Hours Stadium Run is a unique endurance running event hosted by Tuffman India at the iconic Jawaharlal Nehru Stadium track in New Delhi. Now in its 8th edition\, this event pushes runners to test their physical and mental toughness over looped laps on a synthetic track — a completely different experience from typical road or trail races and a true festival of endurance sport. \n\nEvent Overview\n\nEvent Name: Tuffman 24 Hours Stadium Run – New Delhi (8th Edition)\nDates: 7 – 8 March 2026 (Saturday – Sunday)\nVenue: Jawaharlal Nehru Stadium\, Athletics Track\, Pragati Vihar\, New Delhi\nStart Time: 4:00 PM (7 Mar) — race begins & continues through the following day\nOrganiser: Tuffman India — endurance sports platform with a focus on challenging and engaging running formats across India.\n\n\nRace Categories & Formats\nThe event spans multiple time-based and distance-based challenges designed to suit a range of endurance levels. All running is on track loops — not tar roads or trails — making this a true test of consistency\, pacing and grit. \n24 Hours Solo\n\nExtremely demanding endurance challenge — run as many laps as possible between 4:00 PM (7 Mar) to 4:00 PM (8 Mar).\nMinimum age: 18 years\nEligibility requirement: Completed a 12 hr run or 80 K in the last 2 years.\n\n100 K Solo\n\nTarget a full 100 km within 15 hrs.\nStarts: 5:00 PM (7 Mar)\nEligibility: Completed a marathon in <4:45 or any 50 K in the last 2 years.\n\n12 Hours Solo \n\nTwo time-slots: Slot A: 4:00 PM–4:00 AM\, Slot B: 4:00 AM–4:00 PM.\nEligibility: Completed a marathon or 50 K in the last 2 years.\n\n6 Hours Solo \n\nSlot A: 4:00 PM–10:00 PM\, Slot B: 4:00 AM–10:00 AM.\nEligibility: Completed a half marathon in the last 2 years.\n\n3 Hours Solo\n\nMultiple time windows across the weekend:\n4:00–7:00 PM\, 7:00–10:00 PM (7 Mar)\,\n4:00–7:00 AM\, 7:00–10:00 AM (8 Mar).\nEligibility: 18+ years.\n\n‍1 Hour Solo\n\nSeveral one-hour sessions across race day and next morning:\n4:00–5:00 PM\, 5:00–6:00 PM\, 6:00–7:00 AM\, 3:00–4:00 PM.\nMinimum age: 10 years.\n\n3 Hours Team Relay\n\nTeams of 3 runners\, each member runs 1 hr during: 07:00–10:00 AM (8 Mar)\nMinimum age: 14 years\nNo gender restrictions on team composition.\n\n\nFinishing & Title Criteria\nTuffman categorises performance with achievement titles based on distance and time covered: \n\nUltra Tuffman: 161 K+ in the 24 hr category.\nTuffman: 100 K within the 15 hr cutoff.\nTuffman in 12 hrs: 80 K+ completed.\nTuffman in 6 hrs: 50 K+ covered.\nFor timed runs (3 hr/1 hr/relay)\, finishers earn Aspiring Tuffman status.\n\n\nRace Inclusions\nEach registered runner gets:✔ Quick-dry Tuffman/Tuffwoman T-shirt✔ Race bag & timing bib✔ Live results tracking✔ Tuffman finisher’s medal✔ Hydration & nutrition support round the clock✔ Hot meals\, medical & physiotherapy support✔ Digital finisher certificate✔ Race photos & memories✔ Podium trophies for top finishers in each category (individual and team relay) \n\nRace Expo & Kit Distribution\n\nExpo / Bib/Kit pickup: 7 March 2026\, typically midday — exact time slots announced by organisers at the venue.\nAll participants must collect race kits within the designated timeframe.\n\n\nWho Should Participate\nThis stadium run challenges runners of every level: \n\nElite endurance athletes seeking certified multi-hour race experience\nUltrarunners targeting 100 K and beyond\nTrack specialists wanting controlled loops\, pacing consistency\nTeam runners looking for relay fun and exploration\nYounger participants (10 yrs+) eager to try timed loop events\n\n**Disclaimer: While we aim to provide accurate\, timely event information\, all details\, including date\, venue\, category\, and race logistics\, are subject to change by the official organizers. Please verify the latest information through the official event channels before registering or participating.
URL:https://zenmountain.in/event/tuffman-24-hours-stadium-run-new-delhi-8th-edition/
LOCATION:New Delhi\, New Delhi\, India
CATEGORIES:Endurance,Running
ATTACH;FMTTYPE=image/jpeg:https://zenmountain.in/wp-content/uploads/2026/01/tuffman-new-delhi-stadium-run-Zen-Mountain.jpg
END:VEVENT
BEGIN:VEVENT
DTSTART;TZID=UTC:20260308T050000
DTEND;TZID=UTC:20260308T140000
DTSTAMP:20260423T075216
CREATED:20251209T103657Z
LAST-MODIFIED:20251210T120751Z
UID:10000177-1772946000-1772978400@zenmountain.in
SUMMARY:World Women’s Day Run 2026
DESCRIPTION:The World Women’s Day Run 2026 is a special annual running event created to celebrate women’s spirit\, fitness\, solidarity\, and empowerment. The run welcomes women (and allies\, if permitted) from all backgrounds – fitness lovers\, beginners\, professionals\, groups – inviting them to run for health\, community and awareness. \nThis run aims to combine physical endurance\, community wellness\, and social message – making it more than just a race; it’s a tribute to women and their collective strength. \n\nWhat the Run Offers – Format & Spirit\n\nA run dedicated to celebrating women and women’s health\, well-being and empowerment.\nTypically organised with community/charity/societal awareness in mind – promoting fitness\, solidarity\, inclusivity and social cause around women.\nOpen to a wide variety of participants\, from first-time runners to seasoned athletes (depending on category availability).\nEmphasis on a supportive\, welcoming\, inclusive atmosphere rather than just competition – as often befitting events around social causes and community runs.\n\n\nWhy Join World Women’s Day Run 2026\n\nCelebrate the spirit of womanhood and community solidarity\nGreat for fitness\, health\, self-care\, and social cause awareness\nEncourages participation from women across age groups and backgrounds\nSuitable for both new runners and experienced runners wanting to support a cause\nA chance to be part of a larger movement – not just a race but an experience celebrating unity and empowerment
URL:https://zenmountain.in/event/world-womens-day-run-2026/
LOCATION:Bengaluru\, Bengaluru\, India
CATEGORIES:Running
ATTACH;FMTTYPE=image/jpeg:https://zenmountain.in/wp-content/uploads/2025/12/World-womens-day-Bengaluru-Zen-Mountain-scaled.jpeg
END:VEVENT
BEGIN:VEVENT
DTSTART;TZID=UTC:20260308T063000
DTEND;TZID=UTC:20260308T093000
DTSTAMP:20260423T075216
CREATED:20260223T065036Z
LAST-MODIFIED:20260304T064334Z
UID:10000240-1772951400-1772962200@zenmountain.in
SUMMARY:Into the Trails: A Practical Trail Running Workshop
DESCRIPTION:Trail running is more than just running off the road – it demands strength\, balance\, awareness\, and terrain intelligence. \nThis Trail Running Workshop led by Raghav is designed specifically for runners who want to confidently tackle hills\, uneven surfaces\, technical descents\, and long endurance efforts. Unlike road-running workshops focused on flat\, predictable terrain\, this session dives deep into the real challenges of trails. \nExpect a highly practical\, on-ground learning experience in a natural trail environment. \n\nWhat You’ll Learn (Trail-Specific Focus)\n\n️Uphill & downhill running techniques\nHandling rocky\, root-filled\, and uneven terrain\nBalance\, foot placement & body positioning\nEnergy management on climbs\nStrength & stability for trail runners\nMental strategies for technical sectionS\n\n\nWhat the Workshop Includes\n\n‍Guided trail run with technique breakdowns\nHands-on drills on actual trail terrain\nLive Q&A with Coach Raghav\nPractical tips you can apply in races and long runs\n\n\nWho Is This Workshop For?\n\nRoad runners transitioning to trail running\nTrail runners preparing for hill\, forest\, or mountain races\nUltra & endurance runners\nAdventure and outdoor fitness enthusiasts\nAnyone looking to run stronger\, safer\, and smarter on trails\n\n⚠️ You don’t need to be fast — just comfortable running continuously for short distances. \n\nAbout Raghav\nRaghav is a passionate endurance and trail runner with multiple wins under his belt. \n\nMalnad Ultra 30K 2025 – 1st Place\nJawadhu Ultra 25K 2025 – 1ST Place\nSolang Sky Ultra 20K 2024 – 3rd Place\nBMF Mountain Festival 2026 – 10k 1st Place\n\nHis approach emphasises efficient movement\, terrain awareness\, and long-term durability\, helping runners stay injury-free while exploring challenging environments. \n\nEvent Details\n\nLocation: JB Kaval\, Avallahalli\, near Yelahanka\nDate: 8th March 2026\n\nTime: 6:30AM\nRegistration Fee: Standard price is 999\, RS 899(Early bird offer ends on 1st March)\nWhat to Bring: Trail running shoes (preferred)\, hydration\, cap\, sunscreen\n\n\nWhy This Trail Workshop Is Different\n\nConducted on real trails\, not tracks or roads\n Focus on elevation\, technical terrain & stability\n Small group for personal feedback\nLearn skills that road running won’t teach you
URL:https://zenmountain.in/event/into-the-trails-a-practical-trail-running-workshop-3/
LOCATION:Bengaluru\, Bengaluru\, India
CATEGORIES:Running,Trail Running,Workshop
ATTACH;FMTTYPE=image/png:https://zenmountain.in/wp-content/uploads/2026/02/train-running-workshop-with-raghav-zen-mountain-website-banenr.png
END:VEVENT
END:VCALENDAR