BEGIN:VCALENDAR
VERSION:2.0
PRODID:-//Zen Mountain - ECPv6.1.2.2//NONSGML v1.0//EN
CALSCALE:GREGORIAN
METHOD:PUBLISH
X-ORIGINAL-URL:https://zenmountain.in
X-WR-CALDESC:Events for Zen Mountain
REFRESH-INTERVAL;VALUE=DURATION:PT1H
X-Robots-Tag:noindex
X-PUBLISHED-TTL:PT1H
BEGIN:VTIMEZONE
TZID:UTC
BEGIN:STANDARD
TZOFFSETFROM:+0000
TZOFFSETTO:+0000
TZNAME:UTC
DTSTART:20240101T000000
END:STANDARD
END:VTIMEZONE
BEGIN:VEVENT
DTSTART;TZID=UTC:20240921T120000
DTEND;TZID=UTC:20240922T170000
DTSTAMP:20260425T135356
CREATED:20240729T165152Z
LAST-MODIFIED:20260204T064313Z
UID:10000101-1726920000-1727024400@zenmountain.in
SUMMARY:WILD WARRIOR CARNIVAL IV - OCR National Championship
DESCRIPTION:The Wild Warrior OCR National Championship 2024 brings together the best athletes in the sport of Obstacle Course Racing\, also called OCR. The National Championship Race is a 2KM course with 21 obstacles. The prize money for the Men’s and Women’s categories is Rs. 2\,00\,000. \n\nThe event hosts an endurance challenge called the WILD-E-BEEST on Saturday. It also features a non-competitive obstacle course experience for kids & adults on Sunday.\n\n\nThe Wild Warrior Carnival features music\, exciting food stalls\, live performances\, fitness games & spectatorship of India’s coolest Obstacle Course Race. \nNo refunds\, whether in whole or in part\, will be granted if you cant be a part of the event. \n\nSign up now and be a part of this spectacular event!\n\nHave you got doubts? Want to understand the race better? Talk to us by click the chat button below\n\nLooking to register for the Wild Warrior National Level Obstacle Course Racing Championship 2026 in Chennai\, click here
URL:https://zenmountain.in/event/wild-warrior-carnival-iv-ocr-national-championship/
LOCATION:Chennai\, Chennai\, Tamil Nadu\, India
CATEGORIES:Adventure Racing,AR,Bicycle,Competition,Running,Specials,Trail Running
ATTACH;FMTTYPE=image/jpeg:https://zenmountain.in/wp-content/uploads/2024/07/452508517_18343056565186094_3486333783623249211_n.jpg
ORGANIZER;CN="Wild%20Warrior":MAILTO:wildwarriorventures@gmail.com
END:VEVENT
END:VCALENDAR