BEGIN:VCALENDAR
VERSION:2.0
PRODID:-//Zen Mountain - ECPv6.1.2.2//NONSGML v1.0//EN
CALSCALE:GREGORIAN
METHOD:PUBLISH
X-ORIGINAL-URL:https://zenmountain.in
X-WR-CALDESC:Events for Zen Mountain
REFRESH-INTERVAL;VALUE=DURATION:PT1H
X-Robots-Tag:noindex
X-PUBLISHED-TTL:PT1H
BEGIN:VTIMEZONE
TZID:UTC
BEGIN:STANDARD
TZOFFSETFROM:+0000
TZOFFSETTO:+0000
TZNAME:UTC
DTSTART:20260101T000000
END:STANDARD
END:VTIMEZONE
BEGIN:VEVENT
DTSTART;TZID=UTC:20260920T060000
DTEND;TZID=UTC:20260920T140000
DTSTAMP:20260421T205331
CREATED:20260210T095743Z
LAST-MODIFIED:20260210T095743Z
UID:10000255-1789884000-1789912800@zenmountain.in
SUMMARY:Apex ITT
DESCRIPTION:Bangalore Bicycle Championships (BBCh) is India’s longest-running and most iconic amateur cycle racing platform. Established in 2009\, BBCh was born from a simple but powerful idea: to bring people together to race\, ride\, and grow the sport of cycling. What began as a few passionate cyclists organizing friendly races around Bengaluru has evolved into a nationally recognized racing series that continues to define and inspire India’s amateur cycling community. \nMore details about the race coming soon…
URL:https://zenmountain.in/event/apex-itt/
LOCATION:Tamil Nadu
CATEGORIES:Bicycle,Competition,Endurance,Race
END:VEVENT
BEGIN:VEVENT
DTSTART;TZID=UTC:20261011T060000
DTEND;TZID=UTC:20261011T140000
DTSTAMP:20260421T205331
CREATED:20260210T094058Z
LAST-MODIFIED:20260210T094058Z
UID:10000251-1791698400-1791727200@zenmountain.in
SUMMARY:Supreme MTB Race
DESCRIPTION:Bangalore Bicycle Championships (BBCh) is India’s longest-running and most iconic amateur cycle racing platform. Established in 2009\, BBCh was born from a simple but powerful idea: to bring people together to race\, ride\, and grow the sport of cycling. What began as a few passionate cyclists organizing friendly races around Bengaluru has evolved into a nationally recognized racing series that continues to define and inspire India’s amateur cycling community. \nMore details about the race coming soon…
URL:https://zenmountain.in/event/supreme-mtb-race/
LOCATION:Tamil Nadu
CATEGORIES:Bicycle,Competition,MTB
END:VEVENT
BEGIN:VEVENT
DTSTART;VALUE=DATE:20261023
DTEND;VALUE=DATE:20261026
DTSTAMP:20260421T205331
CREATED:20260402T113128Z
LAST-MODIFIED:20260421T031808Z
UID:10000282-1792713600-1792972799@zenmountain.in
SUMMARY:Bhatti Lakes Ultra 2026
DESCRIPTION:“Running far makes you an ultrarunner. But finishing with precision exactly when you said you would? That’s what makes you elite.” — Kavitha Kanaparthi\, Race Director \n \nThe Bhatti Lakes Ultra is one of India’s most iconic and unforgiving ultra running events — a proving ground carved into the rocky\, sun-scorched trails of the Aravalli range\, just 30 km from Delhi. Now in its 13th edition\, this GlobeRacers event runs across 23–25 October 2026\, offering distances from 20 KM all the way to a brutal 200 KM — making it one of the longest and most demanding ultra events on the Indian running calendar. \nStarted as GlobeRacers’ second-ever race\, the Bhatti Lakes Ultra has grown into a legend. No spectators. No shortcuts. No distractions. Just you\, your grit\, and a trail that never ends. \nAbout the Course\nThe Bhatti Lakes Ultra is set in the unforgiving terrain of the Aravalli range — one of the oldest mountain ranges in the world. The loop-format course takes runners through rocky sections\, sandy patches that test footing\, thorny paths\, troughs\, gorges\, and stretches of trail with zero shade cover where the midday sun beats down relentlessly. \n \nConditions: Mid-to-high 30s °C during the day\, dropping to the teens at night. Dehydration\, sunburn\, and dizzy spells are real risks for the unprepared. \nThis is not a comfortable race. It is a complete test of body and mind — and that is precisely why runners come back for it year after year. \n\nRace Categories & Schedule\nXTrail Categories\n\n\n\n\nDistance\nDate\nStart Time\nCut-off\n\n\n\n\n20 KM\n25 October 2026\n6:00 AM\n9:30 AM (3 hr 30 min)\n\n\n30 KM\n25 October 2026\n6:00 AM\n11:20 AM (5 hr 20 min)\n\n\n\n\nUltra Categories\n\n\n\n\nDistance\nDate\nStart Time\nCut-off\n\n\n\n\n50 KM\n24 October 2026\n6:00 AM\n2:00 PM (8 hours)\n\n\n80 KM\n24 October 2026\n6:00 AM\n8:00 PM (14 hours)\n\n\n100 KM\n24 October 2026\n6:00 AM\n10:00 PM (16 hours)\n\n\n24 Hours\n24 October 2026\n6:00 AM\n25 Oct\, 6:00 AM\n\n\n160 KM\n23 October 2026\n5:00 PM\n25 Oct\, 9:00 PM (28 hours)\n\n\n200 KM\n23 October 2026\n5:00 PM\n25 Oct\, 4:00 AM (35 hours)\n\n\n\n\nNote: In the 24-hour category\, runners must cover a minimum of 120 KM to qualify for a finisher medal. \n  \nEligibility Requirements\n\n\n\n\nDistance\nMinimum Qualification\n\n\n\n\n50 KM\nMinimum 2 full marathons\n\n\n80 KM\nMinimum 2 completed 50 KM ultra marathons\n\n\n100 KM\nMinimum 2 completed 50 KM + 1 completed 75 KM+ ultra\n\n\n160 KM\nMinimum 1 completed 100 KM ultra (timed finish)\n\n\n200 KM\nMinimum 2 completed 160 KM ultra (timed finishes)\n\n\n\n\nNo eligibility requirement for the 20 KM and 30 KM XTrail categories. \n\nWhat’s Included\n\nAid station support every 5 km — water\, ice\, electrolytes\, fruit\, energy drinks\, salty snacks\, candy\, and medical aid\nStove facility at the start for runners and crew to prepare hot food\, coffee\, and tea\n️ Tents at the start point aid station for 200 KM\, 160 KM\, and 100 KM runners and their crew\nNight-time route safety and support\nFinisher medal and digital certificate\nFirst aid and medical support at aid stations\nWater and basic food for registered crew members with crew tags\n\nNot included: Personal crew\, personal food and gear\, tents for other categories\, transport to/from race venue or race city. \n \n\nDrop Bags\n\n\n\n\nDistance\nDrop Bags Allowed\n\n\n\n\n200 KM\n4 drop bags\n\n\n160 KM\n4 drop bags\n\n\n100 KM\n2 drop bags\n\n\n80 KM\n2 drop bags\n\n\n50 KM\n1 drop bag\n\n\n\n\n\nCrew & Pacing Rules\n\n100-mile runners must be accompanied by a minimum of 2 crew members\n200 KM runners must be accompanied by a minimum of 4 crew members\nCrew members must be registered at least two weeks before race day to receive their crew tags — no crew member will be allowed on the route without a registered crew tag\nNo vehicular support is permitted on the route except for organiser vehicles\n50 KM\, 80 KM\, 100-mile\, and 200 KM participants must carry mandatory night running gear: headlamp or torchlight\, reflective vest or armband\, and a whistle\n\n\nMandatory Gear & Medical\nAll participants must undergo a complete medical check covering all vitals at least one week before the race\, and receive clearance from their physician to run. \nRunners in all ultra categories should carry headlamps\, reflective gear\, and a whistle as mandatory equipment. Full mandatory gear list is provided in the confirmation letter after registration. \n \n\nGetting There\nLocation: Bhatti Lakes\, Aravalli Range — 30 km from Delhi city limits \nNearest Cities: Delhi | Faridabad | Kalkaji (Delhi) — accommodation near these areas recommended for trail access \nTravel: Reach Delhi from any major city\, then arrange private transport to the race venue. No public transport directly to the race start. \nForeign nationals require a valid Indian visa — this is the sole responsibility of the participant and must be arranged well before the event start date. Walkie-talkies and satellite phones require prior permits to bring into India — runners without permits are not allowed to carry or use these devices. \n\nCancellation & Refund Policy\nRegistrations are non-refundable and non-transferable. However\, under extenuating circumstances\, runners may write to the Race Director to request a rollover to any other GlobeRacers race in the current or next year’s calendar. \nRollovers may also be considered under special circumstances such as bereavement or natural calamities beyond the participant’s control — at the sole discretion of the Race Director. If approved\, the credit will be processed within 10 business days. \n\nPreparation Checklist\n\nBegin training early with a structured plan tailored to your distance\nPlan your travel and visa (if applicable) well in advance\nArrange crew\, crew vehicle\, and crew logistics with the race coordinator\nTrain in heat and on rocky trail terrain\nChoose all gear — shoes\, headlamp\, hydration pack — and train with it before race day\nComplete your medical check at least one week before the race\nArrive at the venue as per the mandated schedule to acclimatise\n\n\nFAQ\nWhere can I register for the Bhatti Lakes Ultra 2026? \nYou can register here on Zen Mountain. Click the “Get Tickets” button above to register online. Select your race distance (20K to 200K) and complete payment to secure your spot. \nIs Bhatti Lakes Ultra 2026 listed on Zen Mountain? \nYes\, Bhatti Lakes Ultra 2026 listed on Zen Mountain. \nWhat distances are available at Bhatti Lakes Ultra 2026? \nThe event offers seven distances: 20 KM\, 30 KM\, 50 KM\, 80 KM\, 100 KM\, 160 KM\, 200 KM\, and a 24-hour timed format — making it suitable for trail beginners (20 KM) all the way to seasoned ultra veterans (200 KM). \nDo I need a qualifying race to register? \nThe 20 KM and 30 KM XTrail categories have no eligibility requirement. The ultra categories from 50 KM upwards require proof of previous race experience. Details are listed in the eligibility table above. \nWhere is Bhatti Lakes Ultra held? \nThe race is held in the Aravalli range at Bhatti Lakes\, approximately 30 km from Delhi city limits\, near the Asola Bhatti Wildlife Sanctuary\, Faridabad. Runners are advised to stay near Faridabad or Kalkaji in Delhi for easier access. \nWhat is the cut-off time for the 50 KM category? \nThe 50 KM starts at 6:00 AM on 24 October 2026 and has an 8-hour cut-off\, finishing by 2:00 PM the same day. \nWhat does the registration fee include? \nThe fee includes aid station support\, stove facilities\, tents (for 100 KM and above)\, night-time route safety\, finisher medal\, and digital certificate. Race T-shirts are optional and can be added for ₹1\,200. \nCan I bring a crew? \nYes. Crew members are required for 100-mile and 200 KM runners (minimum 2 and 4 respectively). All crew members must be registered at ₹1\,500 each and will receive crew tags on race day. No crew member without a registered tag will be allowed on the route. \nWhat is the weather like during the race? \nExpect temperatures in the mid-to-high 30s °C during the day and teens at night. The trail has minimal shade\, so sun protection\, strong hydration\, and electrolyte management are critical. \nIs there a refund if I can’t make it? \nNo refunds are available. However\, you may request a rollover to another GlobeRacers race by writing to info@globeracers.run under extenuating circumstances. \nWho is the Race Director? \nKavitha Kanaparthi is the Race Director of the Bhatti Lakes Ultra — a seasoned ultrarunner and experienced race director who has built the event into one of India’s most respected trail ultras over 11 editions.
URL:https://zenmountain.in/event/bhatti-lakes-ultra-2026/
LOCATION:Haryana\, India
CATEGORIES:Competition,Endurance,Running,Trail Running
ATTACH;FMTTYPE=image/jpeg:https://zenmountain.in/wp-content/uploads/2026/04/Bhatti-lakes-ultra-Zen-Mountain.jpg
END:VEVENT
BEGIN:VEVENT
DTSTART;TZID=UTC:20261120T060000
DTEND;TZID=UTC:20261120T140000
DTSTAMP:20260421T205331
CREATED:20260210T100143Z
LAST-MODIFIED:20260210T100239Z
UID:10000256-1795154400-1795183200@zenmountain.in
SUMMARY:Nandi Epic Road Race
DESCRIPTION:Bangalore Bicycle Championships (BBCh) is India’s longest-running and most iconic amateur cycle racing platform. Established in 2009\, BBCh was born from a simple but powerful idea: to bring people together to race\, ride\, and grow the sport of cycling. What began as a few passionate cyclists organizing friendly races around Bengaluru has evolved into a nationally recognized racing series that continues to define and inspire India’s amateur cycling community. \nMore details about the race coming soon…
URL:https://zenmountain.in/event/nandi-epic-road-race/
LOCATION:Bengaluru\, Bengaluru\, India
CATEGORIES:Bicycle,Competition,Endurance,Race
END:VEVENT
BEGIN:VEVENT
DTSTART;VALUE=DATE:20261128
DTEND;VALUE=DATE:20261129
DTSTAMP:20260421T205331
CREATED:20260313T075343Z
LAST-MODIFIED:20260313T075505Z
UID:10000276-1795824000-1795910399@zenmountain.in
SUMMARY:The Malnad Ultra 2026
DESCRIPTION:10th Tekion Edition\nThe Malnad Ultra is India’s largest trail ultra — a legendary running event set deep in the coffee-growing heartland of the Malnad region in South India. Now in its 10th edition\, the Tekion Malnad Ultra 2026 takes place on Saturday\, 28 November 2026 at GPL Ground\, Mallanduru\, Karnataka\, offering trail runners four distinct categories — from 30 KM to 100 KM — across some of the most rugged\, scenic\, and challenging terrain in the Western Ghats. \nThis is not a city road race. The Malnad Ultra is a true wilderness trail experience — remote\, demanding\, and deeply rewarding for those who earn their finish. \n\nEvent Overview\nEvent: 10th Tekion Malnad Ultra \nDate: Saturday\, 28 November 2026 \nVenue: GPL Ground\, Mallanduru\, Karnataka \nOrganised by: GIREM \nRegistrations Open: 1 August 2026 \nRegistrations Close: 1 November 2026 (or when category caps are reached) \nQualification Deadline: 7 November 2026 \nEmail: run@malnadultra.com \n\nAbout the Course\nThe Malnad Ultra course is laid out in the heartland of Indian coffee country — the Malnad region of South India. Expect dense forest trails\, significant elevation gain and loss\, remote terrain\, and the kind of natural beauty that only a trail runner gets to experience up close. \nAll categories start and finish at GPL Ground\, Mallanduru. The 100 KM is two loops of the 50 KM course\, and the 50 KM Day and Night editions share the same course — only start times and cut-offs differ. \n\nRace Categories\n30 KM Trail Run\nStart: 7:30 AM | Cut-off: 6.0 hours (End: 1:30 PM) Elevation: +/- 951 metres ITRA Points: 1 | Cap: 400 entries \nDesigned for first-time trail runners and regular hikers. Runners who have completed a few half marathons on road are well-suited for this category. The 6-hour cut-off may appear comfortable\, but the rugged terrain will test many participants. \nQualification — meet any one: \n\nPrevious Malnad Ultra participant (any edition\, any distance\, started the race)\nSub 2:30 half marathon (21 km) at an officially timed event in 2026\nNon-zero ITRA Performance Index (provide your ITRA ID)\n\n\n50 KM Trail Run — Day Edition\nStart: 7:00 AM | Cut-off: 10 hours (End: 5:00 PM) Intermediate Cut-off: 38 km checkpoint by 3:00 PM Elevation: +/- 1\,705 metres | (USD 44) ITRA Points: 2 | Cap: 400 entries \nDesigned for regular marathoners and experienced hikers. No special equipment required as the course is mostly non-technical. \nQualification — meet any one: \n\nPrevious Malnad Ultra finisher (any edition\, any distance)\nSub 5:30 full marathon (42 km) at an officially timed event in 2026\nITRA Performance Index > 275 (provide your ITRA ID)\nFinished a trail run of 30 km or more within cut-off in 2026\nCompleted a 50 km stadium run within 7 hours in 2026\n\n\n50 KM Trail Run — Night Edition\nStart: 4:30 PM | Cut-off: 11 hours (End: 3:30 AM\, 29 Nov) Intermediate Cut-off: 38 km checkpoint by 1:30 AM Elevation: +/- 1\,705 metres |ITRA Points: 2 | Cap: 100 entries \nFor experienced runners who want the thrill of night trail running or prefer cooler temperatures. Also ideal for runners who want to pace a 100 KM participant through their second loop. Headlights or hand-held flashlights are mandatory. \nQualification: Same as 50 KM Day edition. \n\n100 KM Ultra\nStart: 6:30 AM | Cut-off: 21 hours (End: 3:30 AM\, 29 Nov) Intermediate Cut-offs: 50 km loop must start by 4:30 PM | 88 km checkpoint by 1:30 AM Elevation: +/- 3\,410 metres | ITRA Points: 4 | No entry cap \nThe ultimate endurance challenge at Malnad. Two full loops of the 50 KM course through the night. Headlights or hand-held flashlights are mandatory. Finishers in this category are eligible to apply for the Western States 100 (WSER) 2028 lottery. \nQualification — meet any one: \n\nPrevious Malnad Ultra finisher in 50 KM or higher category\nCompleted two sub-5:30 full marathons (42 km) at officially timed events in 2026\nITRA Performance Index > 375 (provide your ITRA ID)\nFinished a trail run of 50 km or more within cut-off in 2026\nCompleted a 75 km stadium run within 11 hours in 2026\n\n\nRegistration Caps — Secure Your Spot Early\n\n\n\n\nCategory\nEntry Cap\n\n\n\n\n30 KM\n400 entries\n\n\n50 KM Day\n400 entries\n\n\n50 KM Night\n100 entries\n\n\n100 KM\nNo cap\n\n\n\n\nRegistrations open at midnight on 1 August 2026 and close on 1 November 2026 or when caps are reached — whichever comes first. \n\nKey Dates\n\n\n\n\nMilestone\nDate\n\n\n\n\nRegistrations Open\n1 August 2026\n\n\nRegistrations Close\n1 November 2026\n\n\nOnline Race Briefing\n17 October 2026\n\n\nQualification Proof Deadline\n7 November 2026\n\n\nBib Pickup\n27 November 2026\, 12:00 PM – 6:00 PM at Estate Cafe\n\n\nRace Day\n28 November 2026\n\n\n\n\nBib pickup also available on race morning at the start area. Arrive at least 90 minutes before your start time. Bibs will only be handed to the registered participant. \n\nOn Race Day\n\nHot breakfast or lunch provided to all participants at the start area\nAid stations and water points positioned across the course\nBaggage facility available at the start/50 km mark for 100 KM runners\nPhysical course markers take precedence over GPX files\n\n\nQualifications — Important Rules\n\nQualification proof must be submitted as an online link to official event results only\nPDFs\, screenshots\, and self-supported run records are not accepted\nDeadline for submission: 7 November 2026 via email to run@malnadultra.com\nEntries without qualification proof by the deadline will be cancelled with no refund\nNot sure if you qualify? Email the team before registering for confirmation\n\n\nAffiliations & Recognition\nThe Malnad Ultra is a proud member of the South India Trail Grail — a six-event trail series across the Western and Eastern Ghats. Complete four 50 KM+ distances across these events between 2025–2027 to earn a special badge of recognition. \nThe event is also listed on the ITRA Race Calendar and UTMB Index\, and the 100 KM category qualifies runners for the Western States Endurance Run (WSER) 2028 lottery. \n\nRegister for The Malnad Ultra 2026\nRegistrations open 1 August 2026. The 30 KM and 50 KM categories have entry caps and will fill up — register early. \nrun@malnadultra.com \nOrganised by GIREM | Title Sponsor: Tekion\n\n \n**Disclaimer: While we aim to provide accurate\, timely event information\, all details\, including date\, venue\, category\, and race logistics\, are subject to change by the official organizers. Please verify the latest information through the official event channels before registering or participating.
URL:https://zenmountain.in/event/the-malnad-ultra-2026/
LOCATION:Chikkamagaluru
CATEGORIES:Competition,Endurance,Running,Trail Running
ATTACH;FMTTYPE=image/jpeg:https://zenmountain.in/wp-content/uploads/2026/03/Malnad-Ultra-Zen-Mountain.jpeg
END:VEVENT
END:VCALENDAR