BEGIN:VCALENDAR
VERSION:2.0
PRODID:-//Zen Mountain - ECPv6.1.2.2//NONSGML v1.0//EN
CALSCALE:GREGORIAN
METHOD:PUBLISH
X-WR-CALNAME:Zen Mountain
X-ORIGINAL-URL:https://zenmountain.in
X-WR-CALDESC:Events for Zen Mountain
REFRESH-INTERVAL;VALUE=DURATION:PT1H
X-Robots-Tag:noindex
X-PUBLISHED-TTL:PT1H
BEGIN:VTIMEZONE
TZID:UTC
BEGIN:STANDARD
TZOFFSETFROM:+0000
TZOFFSETTO:+0000
TZNAME:UTC
DTSTART:20260101T000000
END:STANDARD
END:VTIMEZONE
BEGIN:VEVENT
DTSTART;TZID=UTC:20260212T080000
DTEND;TZID=UTC:20260214T170000
DTSTAMP:20260423T073030
CREATED:20260212T090838Z
LAST-MODIFIED:20260212T091123Z
UID:10000257-1770883200-1771088400@zenmountain.in
SUMMARY:The 22nd National Mountain Bike (MTB) Championship 2026
DESCRIPTION:About the Event\nThe 22nd National Mountain Bike (MTB) Championship 2026 is a marquee competitive cycling event on India’s national racing calendar\, organised by the Arunachal Cycling Association under the Cycling Federation of India (CFI). This high-profile championship brings together India’s best mountain bikers to compete across age and skill categories on challenging terrain in Roing\, Arunachal Pradesh. \n\nEvent Snapshot\n\nEvent: 22nd National MTB Championship 2026\nDates: 12–15 February 2026\nLocation: StoneHill Cycling Trails\, Roing\, Arunachal Pradesh\nHost: Arunachal Cycling Association (under CFI)\nRiders: Over 450 cyclists from across India\nCFI Licence: Mandatory valid CFI 2026 rider licence for participation\n\n\nRace Format & Categories\nThis four-day national championship features a broad range of mountain bike disciplines with competitive categories for riders of all ages: \n\nSub-Junior (14 & under)\nJunior (15–18)\nYouth (Under 23)\nElite (19+)\n\nThe championship includes multiple events\, including individual races and mixed team relays\, designed to test endurance\, technical skill\, and speed. \n\n‍Course & Challenge\nThe National MTB Championship 2026 will be contested on a mix of terrain that reflects India’s diverse landscape — from a technical downhill section (~1.9 km) in Kebali village to a mountain track (~3.8 km) along the Eze river area. Riders should prepare for a demanding but rewarding course that challenges both physical conditioning and bike handling skills. \n\nWhy Race Here\n\nPrestigious National Title: Compete for national honours under the Cycling Federation of India (CFI) flag.\nBroad Competitive Field: Riders from across states and institutions bring elite competition.\nCompetitive Categories: Distinct age groups and race formats for fair competition.\nScenic & Challenging Terrain: Mountain biking in the foothills of the Eastern Himalayas sets a unique test.\n\nThe event is expected to boost both sports tourism and cycling culture in Arunachal Pradesh\, shining a spotlight on Roing’s natural landscape and rugged trails as ideal terrain for competitive mountain biking. \n\nImportant Notes\n\nRiders must hold a valid CFI 2026 licence to participate.\nAccommodation\, logistics\, and rider support are being coordinated locally.\nThe championship operates under strict competition and anti-doping standards.\n\n\nRegistration & Rider Info\nRegistration details\, licence requirements\, and category entries are handled through the CFI and the Arunachal Cycling Association. Riders are encouraged to register early and ensure all eligibility criteria are fulfilled before the event. \nSecure your entry and represent your state in this prestigious national cycling championship.
URL:https://zenmountain.in/event/the-22nd-national-mountain-bike-mtb-championship-2026/
LOCATION:Arunachal Pradesh\, India
CATEGORIES:Bicycle,MTB
END:VEVENT
BEGIN:VEVENT
DTSTART;TZID=UTC:20260419T060000
DTEND;TZID=UTC:20260419T170000
DTSTAMP:20260423T073030
CREATED:20260210T092247Z
LAST-MODIFIED:20260210T092247Z
UID:10000248-1776578400-1776618000@zenmountain.in
SUMMARY:Urban MTB Race
DESCRIPTION:Bangalore Bicycle Championships (BBCh) is India’s longest-running and most iconic amateur cycle racing platform. Established in 2009\, BBCh was born from a simple but powerful idea: to bring people together to race\, ride\, and grow the sport of cycling. What began as a few passionate cyclists organizing friendly races around Bengaluru has evolved into a nationally recognized racing series that continues to define and inspire India’s amateur cycling community. \nMore details about the race coming soon…
URL:https://zenmountain.in/event/urban-mtb-race/
CATEGORIES:Bicycle,MTB
END:VEVENT
BEGIN:VEVENT
DTSTART;VALUE=DATE:20260530
DTEND;VALUE=DATE:20260531
DTSTAMP:20260423T073030
CREATED:20260311T134015Z
LAST-MODIFIED:20260316T100933Z
UID:10000275-1780099200-1780185599@zenmountain.in
SUMMARY:Niti MTB Challenge 2026
DESCRIPTION:High-Altitude Mountain Biking in the Himalayas\nThe Niti MTB Challenge 2026 is one of India’s most extraordinary mountain biking events — a high-altitude endurance race set deep in the remote Niti Valley\, Chamoli district\, Uttarakhand\, just a few kilometres from the Indo-Tibetan (China) border. Organised by the Uttarakhand Tourism Development Board and powered by Bikes Station Haldwani\, this event is a rare invitation to ride through some of the most untouched and dramatic Himalayan terrain in the country. \nWhether you are a competitive MTB rider or an adventure cyclist\, the Niti MTB Challenge offers a race experience unlike anything you will find on the Indian cycling calendar — raw\, scenic\, high-altitude\, and deeply rooted in the culture of the mountains. \n\nEvent Overview\nEvent: Niti MTB Challenge 2026 Date: 30 May 2026 Race Location: Niti Valley\, Chamoli\, Uttarakhand Base Camp: Joshimath\, Uttarakhand Organised by: Uttarakhand Tourism Development Board Powered by: Bikes Station Haldwani (Est. 2012) Bike Type: Only MTB (Mountain Terrain Bikes) allowed Helmet: Mandatory — No Helmet\, No Ride \n\nAbout Niti Valley\nNiti Valley is one of the last truly wild Himalayan valleys in India. Nestled in the Chamoli district of Uttarakhand and sitting close to the Indo-Tibetan border\, it is a region of staggering beauty — ancient mountain villages\, dramatic gorges\, high-altitude meadows\, and landscapes that very few cyclists ever get to experience. \nThe race route connects the villages of Malari (3\,100 m) and Gamshali (3\,350 m)\, taking riders through terrain that is as challenging as it is breathtaking. This is border tourism at its finest — adventurous\, purposeful\, and deeply connected to the communities that call these mountains home. \n\nRace Categories\n30 KM – Open MTB Race (Men & Women)\nEligible: 18 years and above\nStart Point: Gamshali\nTurning Point: Malari\nFinish Point: Gamshali\nRoute: Gamshali → Malari (Downhill) → Gamshali (Uphill) \nA demanding out-and-back route that tests both technical descending skill and uphill endurance. Riders drop from Gamshali (3\,350 m) to Malari (3\,100 m) before climbing back to the finish. \n\n15 KM – Junior MTB Race (Boys & Girls)\nEligible: Below 18 years\nStart Point: Malari\nFinish Point: Gamshali\nRoute: Malari → Gamshali (Uphill) \nA single-direction uphill challenge from Malari to Gamshali — a strong test of junior riders’ climbing ability and mental grit at altitude. \n\nKey Dates & Schedule\n\n\n\n\nActivity\nDate / Time\n\n\n\n\nArrive at Malari (all riders)\n28 May 2026\n\n\nBib & T-Shirt Distribution + Briefing\n29 May 2026\, 11:00 AM onwards\n\n\nRace Day\n30 May 2026\n\n\n\n\nBib\, T-shirt distribution\, and rider briefing will take place at Malari. \n\nWhat Every Participant Gets\n\nFinisher T-Shirt\nFinishing Medal\nE-Certificate\nGoodie Bag\nElectronic Chip Timing (all categories)\n\n\nImportant Requirements\nHelmet Helmets are mandatory for all participants. Riders without a helmet will not be allowed to start — no exceptions. \nBike Type Only MTB (Mountain Terrain Bikes) are permitted. No road bikes\, hybrid bikes\, or e-bikes. \nIdentity Proof Participants must carry a valid government-issued photo ID — Aadhaar Card\, Driving Licence\, or equivalent. \nMedical Certificate A medical fitness certificate from a registered MBBS doctor is mandatory for all participants. The certificate must be issued within 15 days prior to the race start date. \n\nGetting There — Logistics\nBase Camp: Joshimath\, Uttarakhand A help desk will be set up at Joshimath to assist all participants. \nTransportation Shared transportation from Joshimath to Malari will be arranged. Participants bear their own travel expenses. \nAccommodation & Food Accommodation and food are available throughout Niti Valley. Participants are responsible for their own bookings and expenses. \nPlan to arrive at Joshimath by 27 May 2026 to travel comfortably to Malari on 28 May. \n\nAbout the Organiser — Bikes Station Haldwani\nEstablished in 2012\, Bikes Station Haldwani is one of Uttarakhand’s leading cycling stores and event organisers\, dealing in international brands including Trek\, Giant\, and Cannondale. Their team of internationally trained technicians brings a high standard of race management\, safety\, and technical support to every MTB event they organise. The Niti MTB Challenge is a reflection of their expertise and their passion for growing mountain biking culture in the Himalayas. \n\nCancellation & Refund Policy\n\n\n\n\nCancellation Timeline\nRefund\n\n\n\n\nMore than 45 days before event\n75% refund\n\n\n30–45 days before event\n50% refund\n\n\n15–30 days before event\n25% refund\n\n\nLess than 15 days before event\nNo refund\n\n\n\n\n\nRegister for Niti MTB Challenge 2026\nSpots are limited for this remote\, high-altitude event. If riding through the Himalayas at 3\,000+ metres along the Indo-Tibetan border is on your bucket list — this is your year. \n9758727564 | 7830004030 run2live.in@gmail.com \nOrganised by Uttarakhand Tourism Development Board | Powered by Bikes Station Haldwani\n\n \n**Disclaimer: While we aim to provide accurate\, timely event information\, all details\, including date\, venue\, category\, and race logistics\, are subject to change by the official organizers. Please verify the latest information through the official event channels before registering or participating.
URL:https://zenmountain.in/event/niti-mtb-challenge-2026/
LOCATION:Uttarakhand\, Kumaon\, Uttarakhand\, India
CATEGORIES:Bicycle,Competition,Endurance,MTB
ATTACH;FMTTYPE=image/jpeg:https://zenmountain.in/wp-content/uploads/2026/03/Niti-valley-MTB-challenge-Zen-Mountain.jpg
END:VEVENT
BEGIN:VEVENT
DTSTART;TZID=UTC:20261011T060000
DTEND;TZID=UTC:20261011T140000
DTSTAMP:20260423T073030
CREATED:20260210T094058Z
LAST-MODIFIED:20260210T094058Z
UID:10000251-1791698400-1791727200@zenmountain.in
SUMMARY:Supreme MTB Race
DESCRIPTION:Bangalore Bicycle Championships (BBCh) is India’s longest-running and most iconic amateur cycle racing platform. Established in 2009\, BBCh was born from a simple but powerful idea: to bring people together to race\, ride\, and grow the sport of cycling. What began as a few passionate cyclists organizing friendly races around Bengaluru has evolved into a nationally recognized racing series that continues to define and inspire India’s amateur cycling community. \nMore details about the race coming soon…
URL:https://zenmountain.in/event/supreme-mtb-race/
CATEGORIES:Bicycle,Competition,MTB
END:VEVENT
END:VCALENDAR