BEGIN:VCALENDAR
VERSION:2.0
PRODID:-//Zen Mountain - ECPv6.1.2.2//NONSGML v1.0//EN
CALSCALE:GREGORIAN
METHOD:PUBLISH
X-WR-CALNAME:Zen Mountain
X-ORIGINAL-URL:https://zenmountain.in
X-WR-CALDESC:Events for Zen Mountain
REFRESH-INTERVAL;VALUE=DURATION:PT1H
X-Robots-Tag:noindex
X-PUBLISHED-TTL:PT1H
BEGIN:VTIMEZONE
TZID:UTC
BEGIN:STANDARD
TZOFFSETFROM:+0000
TZOFFSETTO:+0000
TZNAME:UTC
DTSTART:20240101T000000
END:STANDARD
END:VTIMEZONE
BEGIN:VEVENT
DTSTART;TZID=UTC:20241013T060000
DTEND;TZID=UTC:20241013T170000
DTSTAMP:20260420T102107
CREATED:20240823T035933Z
LAST-MODIFIED:20241008T172828Z
UID:10000110-1728799200-1728838800@zenmountain.in
SUMMARY:The Coffee Trails\, Coorg 2024
DESCRIPTION:Please note:\nBook your ticket on Razorpay by clicking here \nEvent Information\n\n\n\n\n\nThe Coffee Trails 2.0 is set to happen in Coorg on 13th October 2024.\nCoorg is one of the smallest districts in Karnataka\, next to the Kerala border known for its verdant coffee estates\, hills\, lush greenery and the warrior community of Kodavas\, because of which it is called the ‘land of the bold and beautiful’. Also known as the ‘Scotland of India’\, it was given the term because of its previous Scottish and British settlers being reminded of their homeland by the hilly terrain\, greenery\, and the cool climate. The Coffee Trails will take the runners through beautiful coffee estates and some of the most beautiful trails and views in all of Coorg. The route will take in three of the most well-known peaks in the area; Thadiandamol (the tallest peak in Coorg)\, Kabbe and Chomakund.\nCategories:\nDISTANCE: 62km\nTOTAL ELEVATION GAIN: 3840m\nHIGHEST ALTITUDE: 1\,697m\nCUT-OFF: 12hrs\nITRA points: 3\n\nDISTANCE: 31km\nTOTAL ELEVATION GAIN: 1920m\nHIGHEST ALTITUDE: 1\,697m\nCUT-OFF: 6hrs\nITRA points: 1\n\nDISTANCE: 11km\nTOTAL ELEVATION GAIN: 710m\nHIGHEST ALTITUDE: 1\,697m\nCUT-OFF: 3hrs\nITRA points: 0\n\n\nPlease note:\nBook your ticket on Razorpay by clicking here \n\nThe views are breathtaking and the course difficulty ranges from comfortable to downright bad. The comfortable sections are stone or mud trails through the forest and the coffee plantations. The downright bad sections are the grassy areas on the hills which are similar to tussocks and clumps of heather on the English fells. Being in the monsoon\, the trails are also bound to be a little slippery. It’s a 31k loop with 1920m elevation gain.
URL:https://zenmountain.in/event/the-coffee-trails-coorg-2024/
LOCATION:Coorg
CATEGORIES:Endurance,Running,Trail Running
ATTACH;FMTTYPE=image/jpeg:https://zenmountain.in/wp-content/uploads/2024/08/WhatsApp-Image-2024-08-21-at-19.05.26.jpeg
END:VEVENT
END:VCALENDAR