BEGIN:VCALENDAR
VERSION:2.0
PRODID:-//Zen Mountain - ECPv6.1.2.2//NONSGML v1.0//EN
CALSCALE:GREGORIAN
METHOD:PUBLISH
X-ORIGINAL-URL:https://zenmountain.in
X-WR-CALDESC:Events for Zen Mountain
REFRESH-INTERVAL;VALUE=DURATION:PT1H
X-Robots-Tag:noindex
X-PUBLISHED-TTL:PT1H
BEGIN:VTIMEZONE
TZID:UTC
BEGIN:STANDARD
TZOFFSETFROM:+0000
TZOFFSETTO:+0000
TZNAME:UTC
DTSTART:20260101T000000
END:STANDARD
END:VTIMEZONE
BEGIN:VEVENT
DTSTART;VALUE=DATE:20261023
DTEND;VALUE=DATE:20261026
DTSTAMP:20260422T133849
CREATED:20260402T113128Z
LAST-MODIFIED:20260421T031808Z
UID:10000282-1792713600-1792972799@zenmountain.in
SUMMARY:Bhatti Lakes Ultra 2026
DESCRIPTION:“Running far makes you an ultrarunner. But finishing with precision exactly when you said you would? That’s what makes you elite.” — Kavitha Kanaparthi\, Race Director \n \nThe Bhatti Lakes Ultra is one of India’s most iconic and unforgiving ultra running events — a proving ground carved into the rocky\, sun-scorched trails of the Aravalli range\, just 30 km from Delhi. Now in its 13th edition\, this GlobeRacers event runs across 23–25 October 2026\, offering distances from 20 KM all the way to a brutal 200 KM — making it one of the longest and most demanding ultra events on the Indian running calendar. \nStarted as GlobeRacers’ second-ever race\, the Bhatti Lakes Ultra has grown into a legend. No spectators. No shortcuts. No distractions. Just you\, your grit\, and a trail that never ends. \nAbout the Course\nThe Bhatti Lakes Ultra is set in the unforgiving terrain of the Aravalli range — one of the oldest mountain ranges in the world. The loop-format course takes runners through rocky sections\, sandy patches that test footing\, thorny paths\, troughs\, gorges\, and stretches of trail with zero shade cover where the midday sun beats down relentlessly. \n \nConditions: Mid-to-high 30s °C during the day\, dropping to the teens at night. Dehydration\, sunburn\, and dizzy spells are real risks for the unprepared. \nThis is not a comfortable race. It is a complete test of body and mind — and that is precisely why runners come back for it year after year. \n\nRace Categories & Schedule\nXTrail Categories\n\n\n\n\nDistance\nDate\nStart Time\nCut-off\n\n\n\n\n20 KM\n25 October 2026\n6:00 AM\n9:30 AM (3 hr 30 min)\n\n\n30 KM\n25 October 2026\n6:00 AM\n11:20 AM (5 hr 20 min)\n\n\n\n\nUltra Categories\n\n\n\n\nDistance\nDate\nStart Time\nCut-off\n\n\n\n\n50 KM\n24 October 2026\n6:00 AM\n2:00 PM (8 hours)\n\n\n80 KM\n24 October 2026\n6:00 AM\n8:00 PM (14 hours)\n\n\n100 KM\n24 October 2026\n6:00 AM\n10:00 PM (16 hours)\n\n\n24 Hours\n24 October 2026\n6:00 AM\n25 Oct\, 6:00 AM\n\n\n160 KM\n23 October 2026\n5:00 PM\n25 Oct\, 9:00 PM (28 hours)\n\n\n200 KM\n23 October 2026\n5:00 PM\n25 Oct\, 4:00 AM (35 hours)\n\n\n\n\nNote: In the 24-hour category\, runners must cover a minimum of 120 KM to qualify for a finisher medal. \n  \nEligibility Requirements\n\n\n\n\nDistance\nMinimum Qualification\n\n\n\n\n50 KM\nMinimum 2 full marathons\n\n\n80 KM\nMinimum 2 completed 50 KM ultra marathons\n\n\n100 KM\nMinimum 2 completed 50 KM + 1 completed 75 KM+ ultra\n\n\n160 KM\nMinimum 1 completed 100 KM ultra (timed finish)\n\n\n200 KM\nMinimum 2 completed 160 KM ultra (timed finishes)\n\n\n\n\nNo eligibility requirement for the 20 KM and 30 KM XTrail categories. \n\nWhat’s Included\n\nAid station support every 5 km — water\, ice\, electrolytes\, fruit\, energy drinks\, salty snacks\, candy\, and medical aid\nStove facility at the start for runners and crew to prepare hot food\, coffee\, and tea\n️ Tents at the start point aid station for 200 KM\, 160 KM\, and 100 KM runners and their crew\nNight-time route safety and support\nFinisher medal and digital certificate\nFirst aid and medical support at aid stations\nWater and basic food for registered crew members with crew tags\n\nNot included: Personal crew\, personal food and gear\, tents for other categories\, transport to/from race venue or race city. \n \n\nDrop Bags\n\n\n\n\nDistance\nDrop Bags Allowed\n\n\n\n\n200 KM\n4 drop bags\n\n\n160 KM\n4 drop bags\n\n\n100 KM\n2 drop bags\n\n\n80 KM\n2 drop bags\n\n\n50 KM\n1 drop bag\n\n\n\n\n\nCrew & Pacing Rules\n\n100-mile runners must be accompanied by a minimum of 2 crew members\n200 KM runners must be accompanied by a minimum of 4 crew members\nCrew members must be registered at least two weeks before race day to receive their crew tags — no crew member will be allowed on the route without a registered crew tag\nNo vehicular support is permitted on the route except for organiser vehicles\n50 KM\, 80 KM\, 100-mile\, and 200 KM participants must carry mandatory night running gear: headlamp or torchlight\, reflective vest or armband\, and a whistle\n\n\nMandatory Gear & Medical\nAll participants must undergo a complete medical check covering all vitals at least one week before the race\, and receive clearance from their physician to run. \nRunners in all ultra categories should carry headlamps\, reflective gear\, and a whistle as mandatory equipment. Full mandatory gear list is provided in the confirmation letter after registration. \n \n\nGetting There\nLocation: Bhatti Lakes\, Aravalli Range — 30 km from Delhi city limits \nNearest Cities: Delhi | Faridabad | Kalkaji (Delhi) — accommodation near these areas recommended for trail access \nTravel: Reach Delhi from any major city\, then arrange private transport to the race venue. No public transport directly to the race start. \nForeign nationals require a valid Indian visa — this is the sole responsibility of the participant and must be arranged well before the event start date. Walkie-talkies and satellite phones require prior permits to bring into India — runners without permits are not allowed to carry or use these devices. \n\nCancellation & Refund Policy\nRegistrations are non-refundable and non-transferable. However\, under extenuating circumstances\, runners may write to the Race Director to request a rollover to any other GlobeRacers race in the current or next year’s calendar. \nRollovers may also be considered under special circumstances such as bereavement or natural calamities beyond the participant’s control — at the sole discretion of the Race Director. If approved\, the credit will be processed within 10 business days. \n\nPreparation Checklist\n\nBegin training early with a structured plan tailored to your distance\nPlan your travel and visa (if applicable) well in advance\nArrange crew\, crew vehicle\, and crew logistics with the race coordinator\nTrain in heat and on rocky trail terrain\nChoose all gear — shoes\, headlamp\, hydration pack — and train with it before race day\nComplete your medical check at least one week before the race\nArrive at the venue as per the mandated schedule to acclimatise\n\n\nFAQ\nWhere can I register for the Bhatti Lakes Ultra 2026? \nYou can register here on Zen Mountain. Click the “Get Tickets” button above to register online. Select your race distance (20K to 200K) and complete payment to secure your spot. \nIs Bhatti Lakes Ultra 2026 listed on Zen Mountain? \nYes\, Bhatti Lakes Ultra 2026 listed on Zen Mountain. \nWhat distances are available at Bhatti Lakes Ultra 2026? \nThe event offers seven distances: 20 KM\, 30 KM\, 50 KM\, 80 KM\, 100 KM\, 160 KM\, 200 KM\, and a 24-hour timed format — making it suitable for trail beginners (20 KM) all the way to seasoned ultra veterans (200 KM). \nDo I need a qualifying race to register? \nThe 20 KM and 30 KM XTrail categories have no eligibility requirement. The ultra categories from 50 KM upwards require proof of previous race experience. Details are listed in the eligibility table above. \nWhere is Bhatti Lakes Ultra held? \nThe race is held in the Aravalli range at Bhatti Lakes\, approximately 30 km from Delhi city limits\, near the Asola Bhatti Wildlife Sanctuary\, Faridabad. Runners are advised to stay near Faridabad or Kalkaji in Delhi for easier access. \nWhat is the cut-off time for the 50 KM category? \nThe 50 KM starts at 6:00 AM on 24 October 2026 and has an 8-hour cut-off\, finishing by 2:00 PM the same day. \nWhat does the registration fee include? \nThe fee includes aid station support\, stove facilities\, tents (for 100 KM and above)\, night-time route safety\, finisher medal\, and digital certificate. Race T-shirts are optional and can be added for ₹1\,200. \nCan I bring a crew? \nYes. Crew members are required for 100-mile and 200 KM runners (minimum 2 and 4 respectively). All crew members must be registered at ₹1\,500 each and will receive crew tags on race day. No crew member without a registered tag will be allowed on the route. \nWhat is the weather like during the race? \nExpect temperatures in the mid-to-high 30s °C during the day and teens at night. The trail has minimal shade\, so sun protection\, strong hydration\, and electrolyte management are critical. \nIs there a refund if I can’t make it? \nNo refunds are available. However\, you may request a rollover to another GlobeRacers race by writing to info@globeracers.run under extenuating circumstances. \nWho is the Race Director? \nKavitha Kanaparthi is the Race Director of the Bhatti Lakes Ultra — a seasoned ultrarunner and experienced race director who has built the event into one of India’s most respected trail ultras over 11 editions.
URL:https://zenmountain.in/event/bhatti-lakes-ultra-2026/
LOCATION:Haryana\, India
CATEGORIES:Competition,Endurance,Running,Trail Running
ATTACH;FMTTYPE=image/jpeg:https://zenmountain.in/wp-content/uploads/2026/04/Bhatti-lakes-ultra-Zen-Mountain.jpg
END:VEVENT
END:VCALENDAR