BEGIN:VCALENDAR
VERSION:2.0
PRODID:-//Zen Mountain - ECPv6.1.2.2//NONSGML v1.0//EN
CALSCALE:GREGORIAN
METHOD:PUBLISH
X-ORIGINAL-URL:https://zenmountain.in
X-WR-CALDESC:Events for Zen Mountain
REFRESH-INTERVAL;VALUE=DURATION:PT1H
X-Robots-Tag:noindex
X-PUBLISHED-TTL:PT1H
BEGIN:VTIMEZONE
TZID:UTC
BEGIN:STANDARD
TZOFFSETFROM:+0000
TZOFFSETTO:+0000
TZNAME:UTC
DTSTART:20230101T000000
END:STANDARD
END:VTIMEZONE
BEGIN:VEVENT
DTSTART;VALUE=DATE:20230501
DTEND;VALUE=DATE:20230801
DTSTAMP:20260421T081258
CREATED:20230505T045432Z
LAST-MODIFIED:20230505T051120Z
UID:10000019-1682899200-1690847999@zenmountain.in
SUMMARY:Redbull Illume Action Adventure Photography Contest
DESCRIPTION:The world’s biggest adventure and action sports imagery contest is now accepting your submissions. \n\nYou can now enter the world’s largest and most respected adventure and action sports imagery contest. The Red Bull Illume Image Quest is officially back for its seventh edition and looking to showcase the next wave of talent\, with categories to appeal to both photographers and videographers\, whether you’re an aspiring amateur\, a seasoned pro or a social media enthusiast – we are open for amazing content from all the creators out there.\n\n\nHere are the key facts you need to know\n\n\n\n\nSubmissions open from May 1 until July 31\, 2023 midnight (UTC)\n\n\n10 categories in total\, more details in the link of the official site\n\n\nEight photo categories via our submission platform\, judged by an international panel of editors and experts\n\n\n\n\nTwo Instagram categories for both photos and reels up to 60 seconds\, via Instagram and the tags @redbullillume and #rbi23submission\, judged by the community\n\n\nEnter now for your shot at recognition and exposure\n\n\nSummary\n\n\nEmerging\n\n\nEnergy\n\n\nInnovation\n\n\nLifestyle by COOPH\n\n\nMasterpiece\n\n\nPlayground by Radiant Photo\n\n\nCreative\n\n\nRAW\n\n\nPhotos of Instagram\n\n\nReels of Instagram\n\n\n\n\nWill Saunders\, winner of the previous edition in 2021 explains why you should enter. “Winning was beyond special and I would encourage everyone to check out Red Bull Illume and submit your photos. You never know. I never thought this would happen.” He adds: “Red Bull Illume is all about blending art and sport. It’s a special competition because it pushes both athletes and photographers to create something new.”\n\nCredits: Event details credit to https://www.redbullillume.com/int-en \,
URL:https://zenmountain.in/event/redbull-illume-action-adventure-photography-contest/
LOCATION:Online
CATEGORIES:Motorcycle,Photography
ATTACH;FMTTYPE=image/png:https://zenmountain.in/wp-content/uploads/2023/05/Blog-1-header.png
END:VEVENT
BEGIN:VEVENT
DTSTART;TZID=UTC:20230702T053000
DTEND;TZID=UTC:20230702T130000
DTSTAMP:20260421T081258
CREATED:20230628T053711Z
LAST-MODIFIED:20230629T031322Z
UID:10000020-1688275800-1688302800@zenmountain.in
SUMMARY:10th Anniversary BAR ITT
DESCRIPTION:10th Anniversary BAR ITT on 2nd July! Registration link in bio!\n.\nExactly 10 years ago in July 2013\, @bar_bangalore_amateur_racing was born with an ITT on OMR. We are doing an ITT to mark that occasion and celebrate the Bangalore cycling community. \nGoogle form registration link provided
URL:https://zenmountain.in/event/bar-itt/
LOCATION:Bengaluru\, Bengaluru\, India
CATEGORIES:Bicycle
ATTACH;FMTTYPE=image/jpeg:https://zenmountain.in/wp-content/uploads/2023/06/IMG_20230628_110047_361.jpg
END:VEVENT
BEGIN:VEVENT
DTSTART;TZID=UTC:20230702T060000
DTEND;TZID=UTC:20230702T170000
DTSTAMP:20260421T081258
CREATED:20230628T055638Z
LAST-MODIFIED:20230628T055723Z
UID:10000022-1688277600-1688317200@zenmountain.in
SUMMARY:INRSC Motor Sport Bike Rally\, Bengaluru\, South Zone
DESCRIPTION:Attention all speed enthusiasts! ️ Don’t miss out on the exhilarating INRSC Motor Sport Bike Rally\, brought to you by INRSC Join us as we kickstart the action in South Zone Bengaluru on July 2nd\, head to North Zone Chandigarh on August 6th\, make a pit stop in East Zone Kolkata on September 3rd\, conquer the roads of West Zone Baroda on October 8th\, and finally rev our engines for the thrilling finale in Goa on December 16th & 17th. Get ready for heart-pounding moments\, fierce competition\, and unforgettable memories. Buckle up and be part of the ultimate racing experience!\n.
URL:https://zenmountain.in/event/inrsc-motor-sport-bike-rally-south-zone/
LOCATION:Bengaluru\, Bengaluru\, India
CATEGORIES:Motorcycle,Race
ATTACH;FMTTYPE=image/jpeg:https://zenmountain.in/wp-content/uploads/2023/06/IMG_20230628_112427_905.jpg
END:VEVENT
BEGIN:VEVENT
DTSTART;TZID=UTC:20230709T050000
DTEND;TZID=UTC:20230709T140000
DTSTAMP:20260421T081258
CREATED:20230628T054906Z
LAST-MODIFIED:20230629T034635Z
UID:10000021-1688878800-1688911200@zenmountain.in
SUMMARY:BMF Ultra
DESCRIPTION:15-13-45-60 kM \nLooking to escape the hustle and bustle of everyday life and reconnect with nature? Look no further than the BMF Ultra running experience! Our immersive trail run takes you through some of the most breathtaking natural landscapes\, challenging you to push your limits and reach new heights of physical and mental endurance. Whether you’re an experienced trail runner or just looking to start your journey\, BMF Ultra has something for everyone. So why wait?
URL:https://zenmountain.in/event/bmf-ultra/
LOCATION:Bengaluru\, Bengaluru\, India
CATEGORIES:Endurance,Race,Trail Running
ATTACH;FMTTYPE=image/jpeg:https://zenmountain.in/wp-content/uploads/2023/06/IMG_20230628_111317_336.jpg
END:VEVENT
BEGIN:VEVENT
DTSTART;TZID=UTC:20230715T060000
DTEND;TZID=UTC:20230716T170000
DTSTAMP:20260421T081258
CREATED:20230707T053749Z
LAST-MODIFIED:20230707T053749Z
UID:10000032-1689400800-1689526800@zenmountain.in
SUMMARY:MRF MOGRIP FMSCI National Championship 2W - Round 3
DESCRIPTION:Round 3 of the MRF Mogrip FMSCI National Rally Championship 2W\, 2023 is next weekend in Coimbatore! \n@mrf_racing @mrfcorporate @fmsci.official @tvsracing_official @zeitmesserindia
URL:https://zenmountain.in/event/mrf-mogrip-fmsci-national-championship-2w-round-3/
LOCATION:Coimbatore\, Coimbatore\, Tamil Nadu\, India
CATEGORIES:Motorcycle
ATTACH;FMTTYPE=image/jpeg:https://zenmountain.in/wp-content/uploads/2023/07/IMG_20230707_110231_278.jpg
END:VEVENT
BEGIN:VEVENT
DTSTART;TZID=UTC:20230715T080000
DTEND;TZID=UTC:20230715T170000
DTSTAMP:20260421T081258
CREATED:20230711T131806Z
LAST-MODIFIED:20230711T131806Z
UID:10000034-1689408000-1689440400@zenmountain.in
SUMMARY:Climbing Asylum - Gym Opening
DESCRIPTION:Opening of brand new climbing gym in Kolkata. \nLet’s join our hands and witness this wonderful moment of \, Climbing Asylum opening on 15th july at 4pm and hence start taking our first step towards a healthy lifestyle. \nCheck Instagram for more details.
URL:https://zenmountain.in/event/climbing-asylum-gym-opening/
LOCATION:Kolkata\, Kolkata\, India
CATEGORIES:Climbing
ATTACH;FMTTYPE=image/jpeg:https://zenmountain.in/wp-content/uploads/2023/07/IMG_20230711_184705_668.jpg
END:VEVENT
BEGIN:VEVENT
DTSTART;TZID=UTC:20230715T080000
DTEND;TZID=UTC:20230716T170000
DTSTAMP:20260421T081258
CREATED:20230711T132637Z
LAST-MODIFIED:20230711T132637Z
UID:10000036-1689408000-1689526800@zenmountain.in
SUMMARY:Dirt Dynamics by Beakonrover & The Dirt Park
DESCRIPTION:Exclusive event for members of club @beakonrovers \nJoin forces with The Dirt Park and Beakonrovers for the ultimate off-road training program! Gear up for an adrenaline-fueled adventure like never before\, as we delve into the heart-pounding world of off-road mastery. Get ready to conquer the untamed terrain\, navigate treacherous trails\, and experience the thrill of off-road domination. Let the Dirt Dynamics take your skills to new heights\, as we unite two powerhouses for an epic collaboration that will leave you breathless. Don’t miss out on this extraordinary opportunity to level up your off-road game. Buckle up\, ignite your passion\, and join us for an unforgettable journey into the wild!
URL:https://zenmountain.in/event/dirt-dynamics-by-beakonrover-the-dirt-park/
LOCATION:Coimbatore\, Coimbatore\, Tamil Nadu\, India
CATEGORIES:Motorcycle
ATTACH;FMTTYPE=image/jpeg:https://zenmountain.in/wp-content/uploads/2023/07/IMG_20230711_185442_934.jpg
END:VEVENT
BEGIN:VEVENT
DTSTART;TZID=UTC:20230716T053000
DTEND;TZID=UTC:20230716T130000
DTSTAMP:20260421T081258
CREATED:20230628T061927Z
LAST-MODIFIED:20230628T061927Z
UID:10000027-1689485400-1689512400@zenmountain.in
SUMMARY:Bangalore Classic Road Race\, BBCh
DESCRIPTION:BBCh23 Race #06 | Bangalore Classic Road Race | 16 JUL 2023 \nHere comes BBCh Classic Road race\, the longest road race in the country.\nRegister To Race – https://in.explara.com/e/bbch23-race06 \nWhen: Sunday\, 16th July 2023\nRace Venue / Assembly / Parking : Opp. Nandi Hill Cross\, Next to peripheral ring road\nGoogle Location: https://goo.gl/maps/MxPVWBFxd3vrYTZq8 \nReporting Time : 5:30AM\nRace Start : 6:30AM (Category Wise)\n* Distance – 154 kms : Elite & Masters\n– Race Start For Elite : 6:30AM\n– Race Start For Men Masters: 6:35AM \n* Distance – 87.6 kms:\n– All Women: 7:30AM\n– Amateur: 8:00AM\n– U18: 8:05AM\n– Non-Road Bike: 8:10AM \n* Distance – 32.7 kms:\n– Pioneer Open: 8:15AM \nRace Fee : Online -INR 799/- (NO Spot Registration)(Excl. Ticket gateway charges) \nNote : Registration will be closed by Wednesday\, 12th July (Midnight) \nHappy Racing!
URL:https://zenmountain.in/event/bangalore-classic-road-race-bbch/
LOCATION:Bengaluru\, Bengaluru\, India
CATEGORIES:Bicycle
ATTACH;FMTTYPE=image/jpeg:https://zenmountain.in/wp-content/uploads/2023/06/IMG_20230628_114525_258.jpg
END:VEVENT
BEGIN:VEVENT
DTSTART;TZID=UTC:20230722T080000
DTEND;TZID=UTC:20230722T170000
DTSTAMP:20260421T081258
CREATED:20230711T131043Z
LAST-MODIFIED:20230711T131147Z
UID:10000033-1690012800-1690045200@zenmountain.in
SUMMARY:Introduction to Rock Climbing - Bangalore Climbing Initiatives
DESCRIPTION:Here is your chance to enjoy the outdoors and learn the basics of Rock climbing with us. \nOur next Introduction to Rock Climbing workshop is scheduled for 22nd July 2023 \nFor more information and to register\, please contact 9611957607 on WhatsApp. \nThe location will be informed to those who have confirmed\, a couple of days before the date. \nWhat to bring:\nTwo liters water\, lunch and snacks for self\, bug spray\, sun screen\, hat\, rain gear and footwear and clothing appropriate for the outdoors. \nWhat we provide:\nClimbing shoes\, harness\, rope and all the other required climbing gear. \nPlease commit and block a place by making a payment of INR 2\,500. This amount will include all the required gear and insurance for the event. \nRefund Policy:\nNo refund post 72hrs before workshop. \nThe content of the workshop:\n– Climbing and disciplines or styles of climbing.\n– Overview of the basic equipment\n– Basic climbing knots\n– Top Rope Belaying\n– Climbing movement on Rock \nNOTE – Due to the current weather situation\, if there are rains on the 22nd\, the workshop might be rolled over to 23rd of July. The decision for the same will be taken by the 20th of July so do keep yourselves free for the weekend\, if possible!
URL:https://zenmountain.in/event/introduction-to-rock-climbing-bangalore-climbing-initiatives/
LOCATION:Bengaluru\, Bengaluru\, India
CATEGORIES:Climbing
ATTACH;FMTTYPE=image/jpeg:https://zenmountain.in/wp-content/uploads/2023/07/bci-zen-mountain.jpg
END:VEVENT
END:VCALENDAR