BEGIN:VCALENDAR
VERSION:2.0
PRODID:-//Zen Mountain - ECPv6.1.2.2//NONSGML v1.0//EN
CALSCALE:GREGORIAN
METHOD:PUBLISH
X-WR-CALNAME:Zen Mountain
X-ORIGINAL-URL:https://zenmountain.in
X-WR-CALDESC:Events for Zen Mountain
REFRESH-INTERVAL;VALUE=DURATION:PT1H
X-Robots-Tag:noindex
X-PUBLISHED-TTL:PT1H
BEGIN:VTIMEZONE
TZID:UTC
BEGIN:STANDARD
TZOFFSETFROM:+0000
TZOFFSETTO:+0000
TZNAME:UTC
DTSTART:20250101T000000
END:STANDARD
END:VTIMEZONE
BEGIN:VEVENT
DTSTART;TZID=UTC:20250127T080000
DTEND;TZID=UTC:20250202T170000
DTSTAMP:20260420T101530
CREATED:20241002T070852Z
LAST-MODIFIED:20241002T070852Z
UID:10000115-1737964800-1738515600@zenmountain.in
SUMMARY:Piti Dharr - Beginner Climbing Batch 3
DESCRIPTION:Take the bold step and learn the art of ice climbing in the safest way.\nGet comfortable in the uncomfortable and feel more confidant in your own self.\nEnroll for the upcoming winter season.\nWhen its cold\, be bold.
URL:https://zenmountain.in/event/piti-dharr-beginner-climbing-batch-3/
LOCATION:Keylong\, Himachal Pradesh\, India
CATEGORIES:Climbing
ATTACH;FMTTYPE=image/jpeg:https://zenmountain.in/wp-content/uploads/2024/10/461336228_1599823867551154_4431691930704979978_n.jpg
END:VEVENT
BEGIN:VEVENT
DTSTART;TZID=UTC:20250201T060000
DTEND;TZID=UTC:20250202T170000
DTSTAMP:20260420T101530
CREATED:20240812T051212Z
LAST-MODIFIED:20240812T052352Z
UID:10000106-1738389600-1738515600@zenmountain.in
SUMMARY:Deccan Ultra 2025
DESCRIPTION:India\, a land of diverse terrain\, ranging from the rocky faces of the Himalayas to the forested slopes of the Sahyadris and the Western Ghats\, offers grueling and challenging race routes. \nWith the Deccan Ultra\, we introduce trails nestled deep within the Sahyadri Range\, offering mesmerizing views of the Deccan Plateau. The Deccan Ultra route includes the highest peak of Maharashtra\, Kalsubai at an altitude of 1646m and also the toughest triple-trouble forts in Sahyadri; Alanggad\, Madangad and Kulanggad\, commonly called the AMK.\nThe route is a mix of easy-ascent slopes as well as treacherous rocky outcrops overlooking the valley below. To climb the near-vertical slopes there are iron ladders along the course. The 115km and 80km category circulates around the Bhandardhara dam and involves climbing 5 forts and the Kalsubai peak.\n\n\nCategories:\n\n115 KM:\nElevation Gain: 4580m\nHighest Altitude: 1650m\nCut-Off time: 26 hrs\n\nITRA Points: 5 \n\n80 KM:\nElevation Gain: 3560m\nHighest Altitude: 1650m\nCut-Off time: 18 hrs\nITRA Points: 4\n \n\n55 KM\nElevation gain: 2160m\nHighest Altitude: 1650m\nCut-Off time: 12 hrs\nITRA Points: 3\n \n30 KM\nElevation gain: 1330m\nHighest Altitude: 1650m\nCut-Off time: 7 hrs\nITRA Points: 2\n \n21 KM \nElevation gain: 1130m\n\nHighest Altitude: 1130m\nCut-Off time: 7 hrs\n\n10 KM\nCross country\nCut-Off time: 2 hrs\n\n\nQualifying Criteria \nThe course is set on mountainous terrain and is a mix of easy-ascent slopes to treacherous rocky outcrops. It requires you to climb and descent technical sections. As this race\, organized by Grand Indian Trails\, does not require a medical certificate\, participants are asked to please understand and accept the risks of accidents that can be caused by the race. To be able to enjoy the race\, it is recommended for participants to practice regularly.\n\nThe participants must meet the following criteria:\n\nYou must be 18 years of age or older before Feb 01\, 2025 to take part in 161K\, 115K\, 80K\, 55K\, 30K and 12 years of age or older to take part in 10K & 21K.\nFor registering for 30K\, one must have completed a Half Marathon in 02:30Hrs.\nFor registering for 55K\, one must have completed a Full Marathon in 05:00Hrs or any Ultra Marathon within the cut-off time prescribed by the organisers of the race. For 12hr runs like stadium runs\, one must have atleast run 50kms.\nFor registering for the 80K\, one must have completed an Ultra marathon (atleast 60KMs) with a minimum elevation gain of 1000m within the cut-off specified by the organisers of that race.\nFor registering for the 115K & 161K\, one must have completed an Ultra marathon (atleast 100KMs) with a minimum elevation gain of 3000m within the cut-off specified by the organisers of that race.\nRaces run after 01-Jan-2024 will only be considered as a qualifying race for Deccan Ultra 2025.\nThere is no qualifying criteria for the 10K & 21K categories.\n\nRace schedule –\nSaturday\, 1st Feb 2025\n9:00am – Bus leaves from Dadar (Cafe Coffee Day)\n10:00am – Bus leaves from Andheri (Bus Travelers stop)\n3:00pm – Reach Basecamp Waki Dam (Krushnavanti Base Camp)\n3:30am: Arrival at Base Camp and Tent allocation\n03:30-5:00pm: Leisure time around the lake / Acclimatisation\n05:00-05:30pm: Bib Collection / Evening tea and snacks\n05:30–06:30pm: Race briefing & route introduction\n07:00–08:00pm: Pre-race Dinner\n\n \nSunday\, 2nd Feb 2025\n01:00am: Wake up call & breakfast for 115km & 80km\n01:30am: Assemble at Race start line 115km & 80km\n02:00am: Race Flag-Off 115km & 80km\n05:00am: Wake up call for 55km\, 30km & 21km\n05:30-06:15am: Breakfast for 55km\, 30km & 21km\n06:10am: Assemble at Race start line – 55km and 30km\n06:30am: Race Flag-Off – 55km\, 30km & 21km\n07:30am: Race Flag-Off – 10km\n09:30am: Cutoff for 10km\n01:30pm: Cutoff for 21km & 30km\n12:00-03:30pm: Lunch\n06:30pm: Cutoff for 55km\n\n08:00pm: Cutoff time for 80km\n08:00-10:30pm: Dinner and post-race party\n\n \nMonday\, 3rd Feb 2025\n4:00am: Cutoff time for 115km\n7:00am: Breakfast\n9:00am – Bus leaves from Basecamp “Waki Dam”\n1:30pm – Drop at Andheri\n2:30pm – Drop at Dadar\n \nCancellation & Refund Policy\n# Any cancellation before 60 days will be eligible for a 100% refund of the registration fee.\n# Any cancellation between 60-45 days will be eligible for a 50% refund of the registration fee.\n# Any cancellation between 44-30 days will be eligible for a 25% refund of the registration fee.\n# Any cancellation between 30-0 days will not be eligible for a refund under any circumstances.
URL:https://zenmountain.in/event/deccan-ultra-2025/
LOCATION:Ahmednagar\, Ahmednagar\, Maharashtra\, India
CATEGORIES:Night Run,Race,Running,Trail Running
ATTACH;FMTTYPE=image/jpeg:https://zenmountain.in/wp-content/uploads/2024/08/5147755b-b9fa-468c-b42d-29272166cf7d.jpg
END:VEVENT
BEGIN:VEVENT
DTSTART;TZID=UTC:20250223T060000
DTEND;TZID=UTC:20250223T150000
DTSTAMP:20260420T101530
CREATED:20250211T172506Z
LAST-MODIFIED:20250211T180258Z
UID:10000121-1740290400-1740322800@zenmountain.in
SUMMARY:ULTRA ARENA GAMES
DESCRIPTION:The ULTRA ARENA GAMES is coming to Bangalore on February 23\, 2025! \nGet ready for A day full of high-energy races and epic competitions\, including the Triathlon\, Triathlon Mixed Relay\, Duathlon\, and fitness racing called STRYDX. It is India’s first ever Indoor Triathlon Short Racing Format! These races are designed for everyone – no matter your experience level – with short\, fast distances that you can easily try and complete! \nWhether you’re racing solo or teaming up with your mates\, it’s your moment to show what you’re made of\, push your limits\, and test your strength. Prize money is up for grabs\, so the stakes are higher than ever. You can even sign up for multiple events to test your limits! \nThis is the first edition\, and slots are limited – so don’t wait.\nCommit to the challenge now\, and make this an experience you’ll never forget. \nSign up today and get ready to bring the energy! \nGot doubts or want to book tickets? Click the button below \n \n \nCategories:  \n\nTRIATHLON – INDIVIDUAL\n\n300m Swim\, 5Km Bike and 1.5Km Run \nIncludes Triathlon\, Finisher Medal\, T-shirt\, Goodies\, Cash Prize \n2. TRIATHLON – MIXED RELAY \n300m Swim\, 5Km Bike and 1.5Km Run \nIncludes Triathlon\, Finisher Medal\, T-shirt\, Goodies \n3. DUATHLON \n5Km Bike and 1.5Km Run \nInlcudes Duathlon\, Finisher Medal\, T-shirt\, Goodies\, Cash Prize \n4. STRYDX – INDIVIDUAL \n8 Fun Fitness Stations with running \nIncludes STRYDX\, Finisher Medal\, T-shirt\, Goodies\, Cash Prize \n5. STRYDX – DOUBLES \nIncludes 8 Fun Fitness Stations with runningSTRYDX\, Finisher Medal\, T-shirt\, Goodies \n“Editor’s note: STRYDX is similar to Hyrox.” \nGot doubts or want to book tickets? Click the button below
URL:https://zenmountain.in/event/ultra-arena-games/
LOCATION:Bengaluru\, Bengaluru\, India
CATEGORIES:Specials
ATTACH;FMTTYPE=image/png:https://zenmountain.in/wp-content/uploads/2025/02/Ticketing-Partner-ultra-arena.png
END:VEVENT
END:VCALENDAR