BEGIN:VCALENDAR
VERSION:2.0
PRODID:-//Zen Mountain - ECPv6.1.2.2//NONSGML v1.0//EN
CALSCALE:GREGORIAN
METHOD:PUBLISH
X-ORIGINAL-URL:https://zenmountain.in
X-WR-CALDESC:Events for Zen Mountain
REFRESH-INTERVAL;VALUE=DURATION:PT1H
X-Robots-Tag:noindex
X-PUBLISHED-TTL:PT1H
BEGIN:VTIMEZONE
TZID:UTC
BEGIN:STANDARD
TZOFFSETFROM:+0000
TZOFFSETTO:+0000
TZNAME:UTC
DTSTART:20230101T000000
END:STANDARD
END:VTIMEZONE
BEGIN:VEVENT
DTSTART;TZID=UTC:20231015T060000
DTEND;TZID=UTC:20231015T170000
DTSTAMP:20260426T024053
CREATED:20230822T053354Z
LAST-MODIFIED:20230822T053354Z
UID:10000058-1697349600-1697389200@zenmountain.in
SUMMARY:GS Trophy - India Qualifier - Mumbai
DESCRIPTION:The GS Trophy 2024 India Qualifier is here! \nDo you have what it takes to proudly represent India in the highly anticipated International GS Trophy 2024? \nTo know more and To register\, contact on the mobile numbers listed below.\nBengaluru (JSP Motorrad): +91 8792595151\nMumbai (Navnit Motors): +91 9664478745\nNew Delhi (Lutyens Motorrad): +91 9910880281
URL:https://zenmountain.in/event/gs-trophy-india-qualifier-mumbai/
LOCATION:Mumbai\, Mumbai
CATEGORIES:Motorcycle
ATTACH;FMTTYPE=image/jpeg:https://zenmountain.in/wp-content/uploads/2023/08/361581877_258626090247647_5024039243732427173_n.jpg
END:VEVENT
END:VCALENDAR