BEGIN:VCALENDAR
VERSION:2.0
PRODID:-//Zen Mountain - ECPv6.1.2.2//NONSGML v1.0//EN
CALSCALE:GREGORIAN
METHOD:PUBLISH
X-ORIGINAL-URL:https://zenmountain.in
X-WR-CALDESC:Events for Zen Mountain
REFRESH-INTERVAL;VALUE=DURATION:PT1H
X-Robots-Tag:noindex
X-PUBLISHED-TTL:PT1H
BEGIN:VTIMEZONE
TZID:UTC
BEGIN:STANDARD
TZOFFSETFROM:+0000
TZOFFSETTO:+0000
TZNAME:UTC
DTSTART:20250101T000000
END:STANDARD
END:VTIMEZONE
BEGIN:VEVENT
DTSTART;TZID=UTC:20251027T050000
DTEND;TZID=UTC:20251027T120000
DTSTAMP:20260425T205956
CREATED:20251001T053631Z
LAST-MODIFIED:20251012T055042Z
UID:10000152-1761541200-1761566400@zenmountain.in
SUMMARY:Infantry Run | Run Monks
DESCRIPTION:Infantry Adventure Run 2025\nA groundbreaking collaboration between the Defence and Civilians in racing in Bharat\nThe run is designed with Indian Army support and safety protocols \, offering the RunMonks‘ signature experience of grit\, mindfulness\, and unity.\n\nA first-of-its-kind collaboration between India’s Defense Forces and Civilians\, the Infantry Day Run celebrates courage\, unity\, and endurance amidst the stunning landscapes of Aalo\, Arunachal Pradesh. \nJoin us as we run shoulder-to-shoulder with Army personnel\, local runners\, and adventure seekers — to honor the spirit of the Infantry and the power of togetherness. \nThis isn’t just a race; it’s a celebration of Infantry Day through unity\, fitness\, and adventure. \n\n5 KM – 27th October 2025\n\nA short yet powerful route for new runners and families. \n\n\nRoute: Donyi Polo Temple → NH 31 → Ranaghat Petrol Bunk (Turnaround Point) → Return to Finish Donyi Polo Temple \n\n10 KM – 27th October 2025\n\n\n\nPerfect for those ready for a real challenge. \n\n\nRoute: Donyi Polo Temple → NH 31 → Kabu Village Entrance (Turnaround Point) → Return to Finish Donyi Polo Temple \n\n21 KM – 27th October 2025\n\nThe ultimate test of endurance and spirit. \n\n\nRoute: Donyi Polo Temple → NH 31 → Kabu Village → Kabu Suspension Bridge → Paya Bridge → Back to NH 31 → Return to Finish Donyi Polo Temple \n\nWhy Join the Run?\n\n\n\nExperience a trail run crafted with Army precision and supported by defence safety protocols.\nImmerse yourself in Arunachal’s raw natural beauty — from serene riversides to mountain valleys.\nConnect with the community — Army\, civilians\, and local runners running as one.\nDiscover the RunMonks signature experience of grit\, mindfulness\, and unity.\n\nGet an Exclusive finisher medal\, T-shirt & certificate. \n\nBy participating in the event\, you are agreeing to the terms of the Waiver and indemnity agreement. Read through agreement here.
URL:https://zenmountain.in/event/infantry-run/
LOCATION:Aalo\, Aalo\, Arunachal Pradesh\, India
CATEGORIES:Running,Trail Running
ATTACH;FMTTYPE=image/jpeg:https://zenmountain.in/wp-content/uploads/2025/10/infantry-run-run-monks-zen-mountain.jpg
END:VEVENT
END:VCALENDAR