BEGIN:VCALENDAR
VERSION:2.0
PRODID:-//Zen Mountain - ECPv6.1.2.2//NONSGML v1.0//EN
CALSCALE:GREGORIAN
METHOD:PUBLISH
X-ORIGINAL-URL:https://zenmountain.in
X-WR-CALDESC:Events for Zen Mountain
REFRESH-INTERVAL;VALUE=DURATION:PT1H
X-Robots-Tag:noindex
X-PUBLISHED-TTL:PT1H
BEGIN:VTIMEZONE
TZID:UTC
BEGIN:STANDARD
TZOFFSETFROM:+0000
TZOFFSETTO:+0000
TZNAME:UTC
DTSTART:20260101T000000
END:STANDARD
END:VTIMEZONE
BEGIN:VEVENT
DTSTART;TZID=UTC:20260905T050000
DTEND;TZID=UTC:20260906T170000
DTSTAMP:20260425T151548
CREATED:20260421T055100Z
LAST-MODIFIED:20260421T060353Z
UID:10000284-1788584400-1788714000@zenmountain.in
SUMMARY:Bergman Bengaluru Triathlon 2026
DESCRIPTION:Share the event with your friendsBergman Bengaluru Triathlon 2026 Registration – Triathlon Race in Bengaluru\, Karnataka\n  \nRegister for Bergman Bengaluru 2026 – \nDate: 6th September 2026 | Swimathon: 5th September 2026 \nVenue: Nelligudde Kere\, Ramanagara\, Karnataka | ~35 km from Bengaluru City Centre | Nearest Airport: BLR \nRace Type: Olympic Triathlon & Open Water Swimathon | In association with Karnataka Tourism \nA fast\, scenic triathlon held at the beautiful Nelligudde Kere in Ramanagara — combining open water swimming\, countryside cycling\, and a balanced run through one of Karnataka’s most naturally striking settings. \nEasily accessible from Bengaluru city (~35 km). Perfect weekend triathlon for Bengaluru athletes and first-timers. \nRace Categories\nBergman 102 Triathlon 6th September 2026 | Swim: 2km · Bike: 80km · Run: 20km Age Groups: 16–30 | 31–40 | 41–50 | 51+ Price: ₹13\,499 (Tier 3 — currently active) \nBergman Olympic Triathlon 6th September 2026 | Swim: 1.5km · Bike: 40km · Run: 10km Age Groups: 16–30 | 31–40 | 41–50 | 51+ Price: ₹10\,499 (Tier 3 — currently active) \nBergman Swimathon BLR 5th September 2026 | Distances: 500m (Kids) · 1km · 2km · 4km Age Groups: 10–12 | 12–14 | 14–16 | 16–30 | 31–40 | 41–50 | 51+ \nCourse Details\nSwim: Open water\, Nelligudde Kere. Calm and controlled. Bike: Scenic countryside roads through Ramanagara. Rolling\, rhythm-friendly. Run: Flat and mild rolling terrain around the venue. \nRace Inclusions \nChip Timing | Finisher Medal | Secure Transition Zone | Medical Support | Hydration Stations | Traffic-Controlled Routes | Elite & Age Group Awards | 100+ Volunteers \nTravel & Getting There \nFrom Bengaluru City: ~35 km Nearest Airport: Kempegowda International Airport (BLR) Google Maps: Nelligudde Kere\, Bidadi\, South Bengaluru (Bengaluru–Mysuru Expressway) \nBook tickets online for triathlon near Bengaluru \nView Other Upcoming Triathlons \nDisclaimer: Zen Mountain makes every effort to ensure event information is accurate. Athletes are advised to verify details directly with the organiser at bergmantri.com. Zen Mountain cannot be held responsible for any changes or inaccuracies. \nShare the event with your friends
URL:https://zenmountain.in/event/bergman-bengaluru-triathlon-2026/
LOCATION:Bengaluru\, Bengaluru\, India
CATEGORIES:Triathlon
ATTACH;FMTTYPE=image/jpeg:https://zenmountain.in/wp-content/uploads/2026/04/Bergman-triathlon-bengaluru-september-2026-Zen-Mountain.jpeg
END:VEVENT
BEGIN:VEVENT
DTSTART;TZID=UTC:20261003T050000
DTEND;TZID=UTC:20261004T170000
DTSTAMP:20260425T151548
CREATED:20260421T055855Z
LAST-MODIFIED:20260421T060220Z
UID:10000285-1791003600-1791133200@zenmountain.in
SUMMARY:Bergman Ozar Pune Triathlon 2026
DESCRIPTION:Share the event with your friendsRegister for Bergman Ozar Pune 2026 –\nDate: 4th October 2026 | Swimathon: 3rd October 2026 \nVenue: Ozar Dam\, near Shri Vighnahar Ganpati Temple\, Ozar\, Maharashtra | Nearest Airport: PNQ (Pune) \nRace Type: Olympic Triathlon & Open Water Swimathon \nA flat\, fast triathlon set in the culturally rich town of Ozar — home to one of Maharashtra’s revered Ashtavinayak temples. Designed for athletes who want clean execution\, consistent pacing\, and a personal best-friendly course. \nRace Categories\nBergman 102 Triathlon 4th October 2026 | Swim: 2km · Bike: 80km · Run: 20km Age Groups: 16–30 | 18–30 | 31–40 | 41–50 | 51+ Price: ₹13\,499 \nBergman Olympic Triathlon 4th October 2026 | Swim: 1.5km · Bike: 40km · Run: 10km Age Groups: 16–30 | 18–30 | 31–40 | 41–50 | 51+ Price: ₹10\,499 \nBergman Swimathon 3rd October 2026 | Distances: 500m (Kids) · 1km · 2km · 4km Age Groups: 09–12 | 12–14 | 14–16 | 16–30 | 31–40 | 41–50 | 51+ \nCourse Details\nSwim: Ozar Dam backwater. Calm\, controlled\, open water. Bike: Predominantly flat with gentle rolling sections. Run: Completely flat. PB-friendly. \nRace Inclusions \nChip Timing | Finisher Medal | Secure Transition Zone | Medical Support | Hydration Stations | Traffic-Controlled Routes | Elite & Age Group Awards | 100+ Volunteers \nTravel & Getting There \nVenue: Ozar Dam\, near Shri Vighnahar Ganpati Temple\, Ozar\, Maharashtra Nearest Airport: Pune International Airport (PNQ) Google Maps: Shri Vighnahar Devasthan\, Ozar \nBook tickets online for triathlon near Pune \nView Other Upcoming Triathlons \nDisclaimer: Zen Mountain makes every effort to ensure event information is accurate. Athletes are advised to verify details directly with the organiser at bergmantri.com. Zen Mountain cannot be held responsible for any changes or inaccuracies. \nShare the event with your friends
URL:https://zenmountain.in/event/bergman-ozar-pune-triathlon-2026/
LOCATION:Pune\, Pune\, Maharashtra\, India
CATEGORIES:Triathlon
ATTACH;FMTTYPE=image/jpeg:https://zenmountain.in/wp-content/uploads/2026/04/Bergman-triathlon-pune-ozar-ocober-2026-zen-mountain.jpeg
END:VEVENT
END:VCALENDAR