BEGIN:VCALENDAR
VERSION:2.0
PRODID:-//Zen Mountain - ECPv6.1.2.2//NONSGML v1.0//EN
CALSCALE:GREGORIAN
METHOD:PUBLISH
X-WR-CALNAME:Zen Mountain
X-ORIGINAL-URL:https://zenmountain.in
X-WR-CALDESC:Events for Zen Mountain
REFRESH-INTERVAL;VALUE=DURATION:PT1H
X-Robots-Tag:noindex
X-PUBLISHED-TTL:PT1H
BEGIN:VTIMEZONE
TZID:UTC
BEGIN:STANDARD
TZOFFSETFROM:+0000
TZOFFSETTO:+0000
TZNAME:UTC
DTSTART:20230101T000000
END:STANDARD
END:VTIMEZONE
BEGIN:VEVENT
DTSTART;TZID=UTC:20260211T080000
DTEND;TZID=UTC:20260215T170000
DTSTAMP:20260421T132621
CREATED:20251226T155218Z
LAST-MODIFIED:20251229T130513Z
UID:10000207-1770796800-1771174800@zenmountain.in
SUMMARY:Dakshin Dare
DESCRIPTION:Share the event with your friendsAbout the Race\nThe Dakshin Dare 2026 is South India’s premier cross-country rally raid — a multi-day motorsport challenge where riders and drivers push their machines through rugged terrain\, dusty trails\, and varied landscapes across southern India. Spread over several days\, this rally tests skill\, endurance\, navigation\, and resilience. Dakshin Dare runs from 11th to 15th February 2026\, bringing the thrill of rally-raid competition to motorsport fans and competitors alike. \n\nWhy It’s Worth Competing\n\nUltimate Off-Road Test: Conquer long selective sections\, changing surface conditions\, and unpredictable environments that reward strategy and capability.\nCross-Country Adventure: Unlike a typical race\, this rally covers extensive distances and varied terrain — the journey matters as much as the finish.\nMotorsport Milestone: For competitors and fans alike\, Dakshin Dare represents one of India’s toughest domestic rally events on the annual calendar.\n\n\nWhat Makes It Unique\nDakshin Dare stands out as a true rally-raid event — combining endurance\, navigation\, and off-road handling across multiple days. Unlike circuit or sprint events\, it requires precision and stamina over long competitive sections and connecting transits\, demanding both physical and mechanical grit. \n\nRace Categories & Format\nWhile specific entry classes can vary year to year\, Dakshin Dare traditionally features multiple competition categories that allow both two-wheeler and four-wheeler entrants to take on the rally challenge: \n\nBike Category: Solo motorcycle competitors tackling long off-road stages.\nCar Category: 4-wheeler teams competing across selective sections.\nEndurance & Challenge Classes: Additional classes based on engine size\, modification level\, or rally experience.\n\nEach competitor aims to complete timed stages across the rally route\, with cumulative time determining overall standings. \n\nEvent Details & Highlights\n\nWhen: 11th — 15th February 2026 — five days of competitive rallying.\n️ Where: Across varied terrain in South India — challenging natural landscapes that demand skill and stamina. Duration: Multi-stage competition with long selective sections each day.\nChallenge: Thousands of kilometres over gravel\, dirt\, and rough tracks — all part of the rally spirit.\n\nParticipants and spectators alike gather to experience the raw energy of Indian rally sport\, celebrate teamwork\, and witness some of the most capable off-road machines in action. \n \n**Disclaimer: While we aim to provide accurate\, timely event information\, all details\, including date\, venue\, category\, and race logistics\, are subject to change by the official organizers. Please verify the latest information through the official event channels before registering or participating. \nShare the event with your friends
URL:https://zenmountain.in/event/dakshin-dare/
LOCATION:Bengaluru\, Bengaluru\, India
CATEGORIES:Motorcycle,Motorsports
ATTACH;FMTTYPE=image/jpeg:https://zenmountain.in/wp-content/uploads/2025/12/dakshin-dare-motorsports-inc-zen-mountain.jpg
END:VEVENT
BEGIN:VEVENT
DTSTART;TZID=UTC:20231216T060000
DTEND;TZID=UTC:20231217T170000
DTSTAMP:20260421T132621
CREATED:20230628T061143Z
LAST-MODIFIED:20230628T061143Z
UID:10000026-1702706400-1702832400@zenmountain.in
SUMMARY:INRSC Motor Sport Bike Rally\, Finals\, Goa
DESCRIPTION:Share the event with your friendsAttention all speed enthusiasts! ️ Don’t miss out on the exhilarating INRSC Motor Sport Bike Rally\, brought to you by INRSC Join us as we kickstart the action in South Zone Bengaluru on July 2nd\, head to North Zone Chandigarh on August 6th\, make a pit stop in East Zone Kolkata on September 3rd\, conquer the roads of West Zone Baroda on October 8th\, and finally rev our engines for the thrilling finale in Goa on December 16th & 17th. Get ready for heart-pounding moments\, fierce competition\, and unforgettable memories. Buckle up and be part of the ultimate racing experience!\n. \nShare the event with your friends
URL:https://zenmountain.in/event/inrsc-motor-sport-bike-rally-finals-goa/
LOCATION:Goa\, Goa
CATEGORIES:Motorcycle,Race
ATTACH;FMTTYPE=image/jpeg:https://zenmountain.in/wp-content/uploads/2023/06/IMG_20230628_112427_905.jpg
END:VEVENT
BEGIN:VEVENT
DTSTART;TZID=UTC:20231008T060000
DTEND;TZID=UTC:20231008T170000
DTSTAMP:20260421T132621
CREATED:20230628T060815Z
LAST-MODIFIED:20230628T060815Z
UID:10000025-1696744800-1696784400@zenmountain.in
SUMMARY:INRSC Motor Sport Bike Rally\, Baroda\, West Zone
DESCRIPTION:Share the event with your friendsAttention all speed enthusiasts! ️ Don’t miss out on the exhilarating INRSC Motor Sport Bike Rally\, brought to you by INRSC Join us as we kickstart the action in South Zone Bengaluru on July 2nd\, head to North Zone Chandigarh on August 6th\, make a pit stop in East Zone Kolkata on September 3rd\, conquer the roads of West Zone Baroda on October 8th\, and finally rev our engines for the thrilling finale in Goa on December 16th & 17th. Get ready for heart-pounding moments\, fierce competition\, and unforgettable memories. Buckle up and be part of the ultimate racing experience! \nShare the event with your friends
URL:https://zenmountain.in/event/inrsc-motor-sport-bike-rally-baroda-west-zone/
LOCATION:Baroda\, Baroda\, Gujrat
CATEGORIES:Motorcycle,Race
ATTACH;FMTTYPE=image/jpeg:https://zenmountain.in/wp-content/uploads/2023/06/IMG_20230628_112427_905.jpg
END:VEVENT
BEGIN:VEVENT
DTSTART;TZID=UTC:20230903T060000
DTEND;TZID=UTC:20230903T170000
DTSTAMP:20260421T132621
CREATED:20230628T060407Z
LAST-MODIFIED:20230628T060407Z
UID:10000024-1693720800-1693760400@zenmountain.in
SUMMARY:INRSC Motor Sport Bike Rally\, Kolkata\, East Zone
DESCRIPTION:Share the event with your friendsAttention all speed enthusiasts! ️ Don’t miss out on the exhilarating INRSC Motor Sport Bike Rally\, brought to you by INRSC Join us as we kickstart the action in South Zone Bengaluru on July 2nd\, head to North Zone Chandigarh on August 6th\, make a pit stop in East Zone Kolkata on September 3rd\, conquer the roads of West Zone Baroda on October 8th\, and finally rev our engines for the thrilling finale in Goa on December 16th & 17th. Get ready for heart-pounding moments\, fierce competition\, and unforgettable memories. Buckle up and be part of the ultimate racing experience!\n. \nShare the event with your friends
URL:https://zenmountain.in/event/inrsc-motor-sport-bike-rally-kolkata-east-zone/
LOCATION:Kolkata\, Kolkata\, India
CATEGORIES:Event,Motorcycle,Race
ATTACH;FMTTYPE=image/jpeg:https://zenmountain.in/wp-content/uploads/2023/06/IMG_20230628_112427_905.jpg
END:VEVENT
BEGIN:VEVENT
DTSTART;TZID=UTC:20230806T060000
DTEND;TZID=UTC:20230806T170000
DTSTAMP:20260421T132621
CREATED:20230628T060018Z
LAST-MODIFIED:20230628T060018Z
UID:10000023-1691301600-1691341200@zenmountain.in
SUMMARY:INRSC Motor Sport Bike Rally\, Chandigarh\, North Zone
DESCRIPTION:Share the event with your friendsAttention all speed enthusiasts! ️ Don’t miss out on the exhilarating INRSC Motor Sport Bike Rally\, brought to you by INRSC Join us as we kickstart the action in South Zone Bengaluru on July 2nd\, head to North Zone Chandigarh on August 6th\, make a pit stop in East Zone Kolkata on September 3rd\, conquer the roads of West Zone Baroda on October 8th\, and finally rev our engines for the thrilling finale in Goa on December 16th & 17th. Get ready for heart-pounding moments\, fierce competition\, and unforgettable memories. Buckle up and be part of the ultimate racing experience!\n. \nShare the event with your friends
URL:https://zenmountain.in/event/inrsc-motor-sport-bike-rally-chandigarh-north-zone/
LOCATION:Chandigarh\, Chandigarh\, Chandigarh\, India
CATEGORIES:Motorcycle
ATTACH;FMTTYPE=image/jpeg:https://zenmountain.in/wp-content/uploads/2023/06/IMG_20230628_112427_905.jpg
END:VEVENT
BEGIN:VEVENT
DTSTART;TZID=UTC:20230702T060000
DTEND;TZID=UTC:20230702T170000
DTSTAMP:20260421T132621
CREATED:20230628T055638Z
LAST-MODIFIED:20230628T055723Z
UID:10000022-1688277600-1688317200@zenmountain.in
SUMMARY:INRSC Motor Sport Bike Rally\, Bengaluru\, South Zone
DESCRIPTION:Share the event with your friendsAttention all speed enthusiasts! ️ Don’t miss out on the exhilarating INRSC Motor Sport Bike Rally\, brought to you by INRSC Join us as we kickstart the action in South Zone Bengaluru on July 2nd\, head to North Zone Chandigarh on August 6th\, make a pit stop in East Zone Kolkata on September 3rd\, conquer the roads of West Zone Baroda on October 8th\, and finally rev our engines for the thrilling finale in Goa on December 16th & 17th. Get ready for heart-pounding moments\, fierce competition\, and unforgettable memories. Buckle up and be part of the ultimate racing experience!\n. \nShare the event with your friends
URL:https://zenmountain.in/event/inrsc-motor-sport-bike-rally-south-zone/
LOCATION:Bengaluru\, Bengaluru\, India
CATEGORIES:Motorcycle,Race
ATTACH;FMTTYPE=image/jpeg:https://zenmountain.in/wp-content/uploads/2023/06/IMG_20230628_112427_905.jpg
END:VEVENT
BEGIN:VEVENT
DTSTART;TZID=UTC:20230527T080000
DTEND;TZID=UTC:20230602T170000
DTSTAMP:20260421T132621
CREATED:20230227T032320Z
LAST-MODIFIED:20230524T153516Z
UID:10000001-1685174400-1685725200@zenmountain.in
SUMMARY:Dakshin Dare - 12th Edition
DESCRIPTION:Share the event with your friendsLife is too short to sit and regret about that thrill and madness you could have experienced.\nDon’t miss out the chance to experience the dare with us!!\nCome join us at ’12th Edition of Dakshin Dare’ hosted in Banglore from 27th to 2nd June 2023. \nShare the event with your friends
URL:https://zenmountain.in/event/dakshin-dare-12th-edition/
LOCATION:Bengaluru\, Bengaluru\, India
CATEGORIES:Motorcycle,Race
ATTACH;FMTTYPE=image/jpeg:https://zenmountain.in/wp-content/uploads/2023/02/1676998266892.webp.jpg
END:VEVENT
END:VCALENDAR