BEGIN:VCALENDAR
VERSION:2.0
PRODID:-//Zen Mountain - ECPv6.1.2.2//NONSGML v1.0//EN
CALSCALE:GREGORIAN
METHOD:PUBLISH
X-ORIGINAL-URL:https://zenmountain.in
X-WR-CALDESC:Events for Zen Mountain
REFRESH-INTERVAL;VALUE=DURATION:PT1H
X-Robots-Tag:noindex
X-PUBLISHED-TTL:PT1H
BEGIN:VTIMEZONE
TZID:UTC
BEGIN:STANDARD
TZOFFSETFROM:+0000
TZOFFSETTO:+0000
TZNAME:UTC
DTSTART:20260101T000000
END:STANDARD
END:VTIMEZONE
BEGIN:VEVENT
DTSTART;TZID=UTC:20260502T050000
DTEND;TZID=UTC:20260503T170000
DTSTAMP:20260421T101408
CREATED:20260421T061524Z
LAST-MODIFIED:20260421T061524Z
UID:10000286-1777698000-1777827600@zenmountain.in
SUMMARY:Gotara Lake Triathlon Camp
DESCRIPTION:Share the event with your friendsJoin us for an exclusive\, two-day comprehensive training camp at a serene\, private lake venue. \nThe Details: \nDates: May 2nd – May 3rd \nLocation: Gunjur Lake Separate batches for Beginners & Advanced athletes. \nImportant: • Pricing is different & exclusive for Trizones Trainees \nPriority booking for our Trainees until April 25th. \nRemaining slots open to non-members after April 25th. \nStrictly limited to 10 slots • First come\, first served! \n \nShare the event with your friends
URL:https://zenmountain.in/event/gotara-lake-triathlon-camp/
LOCATION:Bengaluru\, Bengaluru\, India
CATEGORIES:Triathlon
ATTACH;FMTTYPE=image/jpeg:https://zenmountain.in/wp-content/uploads/2026/04/gotara-lake-tricamp-bengaluru-zen-mountain.jpeg
END:VEVENT
END:VCALENDAR